Workbook
Name Administración: Cargos!$B$4:$B$8
Name Antiguedad: Cargos!$F$4:$F$49
Name Carga_Horaria: Cargos!$E$4:$E$48
Name Maestranza_y_Mantenimiento: Cargos!$C$4:$C$8
Name NIVEL: Cargos!$A$4:$A$6
Name Opciones: Datos!$A$28:$A$29
Name Técnico: Cargos!$D$4:$D$8

Sheet Indices
A1: DESCRIPCIÓN DEL CARGO | B1: Sueldo Basico
A2: 1º Categoría | B2: 1195249 | C2: =+B2/45 -> 26561.089
A3: 2º Categoría | B3: 1163750 | C3: =+B3/45 -> 25861.111
A4: 3º Categoría | B4: 1142825 | C4: =+B4/45 -> 25396.111
A5: 4º Categoría | B5: 1122101 | C5: =+B5/45 -> 24935.578
A6: 5º Categoría | B6: 1114893 | C6: =+B6/45 -> 24775.4

Sheet Datos
A1: Concepto | B1: Valor
A2: BONIF. TÍTULO SEC. | B2: 0.07
A3: BONIF. CAPACITACION | B3: 0.08
A4: BONIF. TAREA RIESGOSA | B4: 0.15
A9: Retenciones | B9: =17+1 -> 18
A15: Garantia | B15: Sueldo Neto J.S. | C15: Sueldo Bruto J.S. | D15: Sueldo Neto J.C. | E15: Sueldo Bruto J.C.
A16: Por cargo
A17: Por hora
A19: Items Sueldo (Decretos)
A24: MARZO 2026
A27: Opciones
A28: SI
A29: NO

Sheet Cargos
A1: Tener presente que en caso de agregar cargos a algun nivel se debera redefinir el rango del mismo
A3: NIVEL | B3: Administración | C3: Maestranza y Mantenimiento | D3: Técnico | E3: Carga Horaria | F3: Antigüedad
A4: Administración | B4: 1º Categoría | C4: 1º Categoría | D4: 1º Categoría | E4: 1 | F4: Sin Antigüedad | G4: 0
A5: Maestranza y Mantenimiento | B5: 2º Categoría | C5: 2º Categoría | D5: 2º Categoría | E5: 2 | F5: 1 | G5: 0.02
A6: Técnico | B6: 3º Categoría | C6: 3º Categoría | D6: 3º Categoría | E6: 3 | F6: 2 | G6: 0.04
B7: 4º Categoría | C7: 4º Categoría | D7: 4º Categoría | E7: 4 | F7: 3 | G7: 0.06
B8: 5º Categoría | C8: 5º Categoría | D8: 5º Categoría | E8: 5 | F8: 4 | G8: 0.08
E9: 6 | F9: 5 | G9: 0.1
E10: 7 | F10: 6 | G10: 0.12
E11: 8 | F11: 7 | G11: 0.14
E12: 9 | F12: 8 | G12: 0.16
A13: =+CONCATENATE($B$3," ",B4) -> Administración 1º Categoría | B13: Jefe de Personal. | E13: 10 | F13: 9 | G13: 0.18
A14: =+CONCATENATE($B$3," ",B5) -> Administración 2º Categoría | B14: Sub-Jefe de Personal ; Secretario Privado. | E14: 11 | F14: 10 | G14: 0.2
A15: =+CONCATENATE($B$3," ",B6) -> Administración 3º Categoría | B15: Administrativo de primera ; Cajero ; Telefonista y recepcionista de conmutador ; Encargado de disciplina. | E15: 12 | F15: 11 | G15: 0.23
A16: =+CONCATENATE($B$3," ",B7) -> Administración 4º Categoría | B16: Administrativo de segunda ; Telefonista; Celador de ómnibus; Bedel ; Celadora de Jardín de Infantes. | E16: 13 | F16: 12 | G16: 0.26
A17: =+CONCATENATE($B$3," ",B8) -> Administración 5º Categoría | B17: Cadete. | E17: 14 | F17: 13 | G17: 0.29
A18: =+CONCATENATE($C$3," ",C4) -> Maestranza y Mantenimiento 1º Categoría | B18: Intendente ; Jefe de mantenimiento ; Encargado de Cocina. | E18: 15 | F18: 14 | G18: 0.32
A19: =+CONCATENATE($C$3," ",C5) -> Maestranza y Mantenimiento 2º Categoría | B19: Sub-Intendente; Sub-Jefe de mantenimiento ; Encargado de Área con personal a cargo ; Ecónomo ; Primer Cocinero y/ o repostero, Mayordomo ; Chofer ; Capataz ; Oficial de Primera ; Encargado de Máquina. | E19: 16 | F19: 15 | G19: 0.35
A20: =+CONCATENATE($C$3," ",C6) -> Maestranza y Mantenimiento 3º Categoría | B20: Oficial ; Mecánico ; Tractorista ; Sastre ; Segundo Cocinero y/o repostero ; Portero de internado con vivienda ; Mozo encargado de comedor ; Lavandero con máquina ; Peluquero ; Costurera ; Casero ; Personal de Vigilancia armado. | E20: 17 | F20: 16 | G20: 0.38
A21: =+CONCATENATE($C$3," ",C7) -> Maestranza y Mantenimiento 4º Categoría | B21: Tercer cocinero ; Ascensorista; Medio Oficial; Sacristán ; Jardinero; Quintero; Sereno; Utilero sección deportes con más de cinco años de antigüedad en el Instituto; Ordenanza con más de cinco años de antigüedad en el Instituto, Foguista; Calderero; Ayudante de cocina con más de cinco años de antigüedad en el Instituto; Cafetero ; Mucama con más de cinco años de antigüedad en el Instituto ; Portero ; Peón de limpieza con más de cinco años de antigüedad en el Instituto. | E21: 18 | F21: 17 | G21: 0.41
A22: =+CONCATENATE($C$3," ",C8) -> Maestranza y Mantenimiento 5º Categoría | B22: Peón; Peón de limpieza ; Ayudante general; Lavandero; Planchador ; Ayudante de cocina; Ordenanza ; Mucama ; Utilero de sección deportes. | E22: 19 | F22: 18 | G22: 0.44
A23: =+CONCATENATE($D$3," ",D4) -> Técnico 1º Categoría | B23: Encargado de Imprenta. | E23: 20 | F23: 19 | G23: 0.47
A24: =+CONCATENATE($D$3," ",D5) -> Técnico 2º Categoría | B24: Asistente Social ; Jefe de Primeros Auxilios y/o Encargado de Enfermería ; Jefe encargado de niñeras en establecimientos de rehabilitación ; Jefe encargado de niñeras en establecimientos de reeducación ; y/o enseñanza especial ; Impresor gráfico ; Encargado de composición en frío. | E24: 21 | F24: 20 | G24: 0.5
A25: =+CONCATENATE($D$3," ",D6) -> Técnico 3º Categoría | B25: Asistente de Biblioteca ; Enfermero ; Niñera a cargo de niños en horario nocturno ; Operador gráfico. | E25: 22 | F25: 21 | G25: 0.54
A26: =+CONCATENATE($D$3," ",D7) -> Técnico 4º Categoría | B26: Auxiliar de enfermería ; Ayudante pedagógico administrativo; Niñera general en Institutos comunes y de educación especial; Encuadernador gráfico con más de cinco años de antigüedad en el Instituto; Armador gráfico con más de cinco años de antigüedad en el Instituto. | E26: 23 | F26: 22 | G26: 0.58
A27: =+CONCATENATE($D$3," ",D8) -> Técnico 5º Categoría | B27: Ayudante gráfico; Encuadernador gráfico ; Armador gráfico; Ingresante. | E27: 24 | F27: 23 | G27: 0.62
E28: 25 | F28: 24 | G28: 0.66
E29: 26 | F29: 25 | G29: 0.7
E30: 27 | F30: 26 | G30: 0.74
E31: 28 | F31: 27 | G31: 0.78
E32: 29 | F32: 28 | G32: 0.82
E33: 30 | F33: 29 | G33: 0.86
E34: 31 | F34: 30 | G34: 0.9
E35: 32 | F35: 31 | G35: 0.94
E36: 33 | F36: 32 | G36: 0.98
E37: 34 | F37: 33 | G37: 1.02
E38: 35 | F38: 34 | G38: 1.06
E39: 36 | F39: 35 | G39: 1.1
... E48: 45 | F48: 44 | G48: 1.46
F49: 45 | G49: 1.5

Sheet Grilla Personal
A4: =+"SUELDOS DE "&Datos!A24 -> SUELDOS DE MARZO 2026
A6: ÁREA | B6: Administración | F6: Sueldo Básico | I6: =$B$15/45*$B8 -> 1195249
A7: CATEGORÍA | B7: 1º Categoría | F7: ="Antigüedad"&" "&VLOOKUP($B$9,Cargos!$F$4:$G$49,2,FALSE)*100&"%" -> Antigüedad 0% | I7: =I6*(VLOOKUP(B9,Cargos!$F$4:$G$49,2,FALSE)) -> 0
A8: CARGA HORARIA SEMANAL | B8: 45 | F8: B.A.P. | I8: =(I6)*0.1 -> 119524.9
A9: ANTIGÜEDAD EN AÑOS | B9: Sin Antigüedad | F9: =+IF(B10="SI","Bonif. Título Secundario",) -> 0 | I9: =+IF($B$10="SI",I6*Datos!$B$2,) -> 0
A10: BONIF. TÍTULO SEC. | B10: NO | F10: =+IF(B11="SI","Bonif. Capacitación",) -> 0 | I10: =+IF($B$11="SI",I6*Datos!$B$3,) -> 0
A11: BONIF. CAPACITACION | B11: NO | F11: =+IF(B12="SI","Bonif. Tarea Riesgosa",) -> 0 | I11: =+IF($B$12="SI",I6*Datos!$B$4,) -> 0
A12: BONIF. TAREA RIESGOSA | B12: NO | F12: Total Remunerativo | I12: =SUM(I6:I11) -> 1314773.9
A13: SINDICATO | B13: NO | F13: Retenciones | I13: =I12*$B$16/100 -> 236659.3
F14: =+IF(I14>0,"O. Social (LCT Art. 92º Ter )",) -> 0 | I14: =IF(($B$15-I12)*0.03>0,IF($B$8<45,($B$15-I12)*0.03,0),) -> 0
A15: Sueldo Básico Jornada Completa | B15: =+VLOOKUP($B$7,Indices!$A$1:$E$338,2,FALSE) -> 1195249 | F15: Total Neto | I15: =I12-I13-I14 -> 1078114.6
A16: Retenciones de ley % | B16: =IF(B13="NO",Datos!B9,Datos!B9+1) -> 18
A18: =+IF(AND(B8>29,B8<45)," ",) -> 0
A20: FUNCIONES
A21: =VLOOKUP(CONCATENATE(B6," ",B7),Cargos!A13:B27,2,FALSE) -> Jefe de Personal.
