Workbook
Name Administración: Cargos!$C$4:$C$6
Name Antiguedad: Cargos!$J$4:$J$54
Name Carga_Horaria_Administración: Cargos!$H$4:$H$47
Name Carga_Horaria_Docentes: Cargos!$G$4:$G$83
Name Carga_Horaria_Maestranza_y_Servicios: Cargos!$I$4:$I$47
Name Carga_Horaria_Supervisión: Cargos!$E$4:$E$47
Name Docentes: Cargos!$F$4:$F$7
Name Maestranza_y_Servicios: Cargos!$D$4:$D$8
Name NIVEL: Cargos!$A$4:$A$7
Name Opciones: Datos!$A$28:$A$29
Name Supervisión: Cargos!$B$4:$B$5

Sheet Indices
A1: DESCRIPCIÓN DEL CARGO | B1: Sueldo Basico | C1: Sueldo Basico NO REM
A2: Supervisión 1º Categoría | B2: 1763354 | C2: 0
A3: Supervisión 2º Categoría | B3: 1633283 | C3: 0
A4: Administración 1º Categoría | B4: 1556502 | C4: 0
A5: Administración 2º Categoría | B5: 1490648 | C5: 0
A6: Administración 3º Categoría | B6: 1344564 | C6: 0
A7: Maestranza y Servicios 1º Categoría | B7: 1548664 | C7: 0
A8: Maestranza y Servicios 2º Categoría | B8: 1474698 | C8: 0
A9: Maestranza y Servicios 3º Categoría | B9: 1403763 | C9: 0
A10: Maestranza y Servicios 4º Categoría | B10: 1336599 | C10: 0
A11: Maestranza y Servicios 5º Categoría | B11: 1275225 | C11: 0
A12: Grupo I | B12: 10013 | C12: 0 | D12: =+"Docentes "&A12 -> Docentes Grupo I
A13: Grupo II | B13: 9706 | C13: 0 | D13: =+"Docentes "&A13 -> Docentes Grupo II
A14: Grupo III | B14: 8760 | C14: 0 | D14: =+"Docentes "&A14 -> Docentes Grupo III
A15: Grupo IV | B15: 8468 | C15: 0 | D15: =+"Docentes "&A15 -> Docentes Grupo IV

Sheet Datos
A1: Concepto | B1: Valor
A2: BONIF. TÍTULO | B2: 0.15
A3: BONIF. IDIOMAS | B3: 0.15
A4: FALLA DE CAJA | B4: 0.1
A9: Retenciones | B9: =17+2 -> 19
A15: Garantia | B15: Sueldo Neto J.S. | C15: Sueldo Bruto J.S. | D15: Sueldo Neto J.C. | E15: Sueldo Bruto J.C.
A16: Por cargo
A17: Por hora
A19: Items Sueldo (Decretos)
A24: FEBRERO 2026
A27: Opciones
A28: SI
A29: NO

Sheet Cargos
A1: Tener presente que en caso de agregar cargos a algun nivel se debera redefinir el rango del mismo
A3: NIVEL | B3: Supervisión | C3: Administración | D3: Maestranza y Servicios | E3: Carga Horaria Supervisión | F3: Docentes | G3: Carga Horaria Docentes | H3: Carga Horaria Administración | I3: Carga Horaria Maestranza y Servicios | J3: ANTIGÜEDAD
A4: Supervisión | B4: 1º Categoría | C4: 1º Categoría | D4: 1º Categoría | E4: 1 | F4: Grupo I | G4: 1 | H4: 1 | I4: 1 | J4: Sin Antigüedad | K4: 0
A5: Administración | B5: 2º Categoría | C5: 2º Categoría | D5: 2º Categoría | E5: 2 | F5: Grupo II | G5: 2 | H5: 2 | I5: 2 | J5: 1 | K5: 0.02
A6: Maestranza y Servicios | C6: 3º Categoría | D6: 3º Categoría | E6: 3 | F6: Grupo III | G6: 3 | H6: 3 | I6: 3 | J6: 2 | K6: 0.04
A7: Docentes | D7: 4º Categoría | E7: 4 | F7: Grupo IV | G7: 4 | H7: 4 | I7: 4 | J7: 3 | K7: 0.06
D8: 5º Categoría | E8: 5 | G8: 5 | H8: 5 | I8: 5 | J8: 4 | K8: 0.08
E9: 6 | G9: 6 | H9: 6 | I9: 6 | J9: 5 | K9: 0.1
E10: 7 | G10: 7 | H10: 7 | I10: 7 | J10: 6 | K10: 0.12
E11: 8 | G11: 8 | H11: 8 | I11: 8 | J11: 7 | K11: 0.14
E12: 9 | G12: 9 | H12: 9 | I12: 9 | J12: 8 | K12: 0.16
A13: =+CONCATENATE($B$3," ",B4) -> Supervisión 1º Categoría | B13: Comprende al personal con responsabilidad y atribuciones para dirigir y distribuir el trabajo entre el personal de la sede, establecimiento o sector, recibiendo órdenes directas de la gerencia general y/o del órgano directivo de la entidad, tales como: contador o jefe de contaduría; intendente general; asesor legal; asesor médico; encargado registro automotores; encargado de filial, farmacéutico; jefe de mantenimiento y conservación; intendente campo de deportes o sede social; mayordomo campo deportes o sede social; programador; analista programador. | E13: 10 | G13: 10 | H13: 10 | I13: 10 | J13: 9 | K13: 0.18
A14: =+CONCATENATE($B$3," ",B5) -> Supervisión 2º Categoría | B14: Comprende al personal responsable de los recursos humanos y físicos de áreas y/o sectores, se rige con criterio propio para impartir órdenes e instrucciones al personal a su cargo, tales como: encargado de área o sector, jefe de departamento; administrador; subcontador; subjefe de personal; administrador de colonia o proveeduría; subintendente campo de deportes o sede social; sub.-mayordomo de campo de deportes o sede social; fiscalizador; analista; administrador de redes. | E14: 11 | G14: 11 | H14: 11 | I14: 11 | J14: 10 | K14: 0.2
A15: =+CONCATENATE($C$3," ",C4) -> Administración 1º Categoría | B15: Comprende al personal especializado en alguna o varias funciones administrativas y/o al personal que cumple funciones específicas o propias de su especialidad profesional y recibe órdenes e indicaciones directas del personal jerárquico, tales como: secretario/a administrativo/a de gerencia; secretario/a administrativo de asuntos legales; traductor público con matrícula oficial. | E15: 12 | G15: 12 | H15: 12 | I15: 12 | J15: 11 | K15: 0.22
A16: =+CONCATENATE($C$3," ",C5) -> Administración 2º Categoría | B16: Comprende al personal administrativo que recibe directivas del responsable del área y se maneja con criterio propio en su implementación. Puede asignar tareas a auxiliares. Tales como: jefe de sección; subjefes o sub.-encargados en general; cajero principal; técnicos que ejerzan su especialidad en tareas asignadas; auxiliares especializados en tareas que requieran conocimientos técnicos específicos, personal de cómputos y liquidaciones; bibliotecarios. | E16: 13 | G16: 13 | H16: 13 | I16: 13 | J16: 12 | K16: 0.24
A17: =+CONCATENATE($C$3," ",C6) -> Administración 3º Categoría | B17: Comprende al personal que realiza tareas administrativas en general, ya sea en forma manual, mecánica, electrónica y/o computarizada, asignadas y bajo la supervisión de su superior, tales como: auxiliares administrativos en general; cajero auxiliar; recepcionista; telefonista; cadete. | E17: 14 | G17: 14 | H17: 14 | I17: 14 | J17: 13 | K17: 0.26
A18: =+CONCATENATE($D$3," ",D4) -> Maestranza y Servicios 1º Categoría | B18: Comprende a los responsables del control y cumplimiento de tareas de un grupo de trabajadores en diferentes áreas o secciones: capataz general u otros cargos de igual responsabilidad. | E18: 15 | G18: 15 | H18: 15 | I18: 15 | J18: 14 | K18: 0.28
A19: =+CONCATENATE($D$3," ",D5) -> Maestranza y Servicios 2º Categoría | B19: Comprende a los trabajadores que hayan adquirido un oficio determinado y ejecuten sus aptitudes con suficiencia y autonomía. También comprende a los trabajadores responsables de controlar tareas realizadas por medio oficiales y/o peones: maestro armero; maestro electrotécnico; sargento 1ro. bomberos; capataz. | E19: 16 | G19: 16 | H19: 16 | I19: 16 | J19: 15 | K19: 0.3
A20: =+CONCATENATE($D$3," ",D6) -> Maestranza y Servicios 3º Categoría | B20: Comprende a los trabajadores que detentan y ejecutan una determinada especialidad o tienen a su cargo un sector especializado, tales como: oficial especializado; encargado de taller; sargento bomberos; encargado general-contramaestre; encargado náutica; encargado embarcadero. | E20: 17 | G20: 17 | H20: 17 | I20: 17 | J20: 16 | K20: 0.32
A21: =+CONCATENATE($D$3," ",D7) -> Maestranza y Servicios 4º Categoría | B21: Comprende a los trabajadores que han adquirido conocimientos prácticos como para realizar tareas relativas a un oficio o función determinada tales como: cabo bombero; chofer; tractorista; sub.-encargado; lanchero; segundo contramaestre; armero; peluquero; cocinero; master caddy; cabo marinero; medio oficial especializado; caballerizo; peticero; encargado de sector y/o deportes varios, utilero, canchero. Asimismo comprende a los trabajadores que han adquirido idoneidad y experiencia en el cuidado, orientación y ayuda a personas. | E21: 18 | G21: 18 | H21: 18 | I21: 18 | J21: 17 | K21: 0.34
A22: =+CONCATENATE($D$3," ",D8) -> Maestranza y Servicios 5º Categoría | B22: Comprende a los trabajadores que realizan las tareas asignadas bajo supervisión, tales como: casero; marinero; mozo; portero; ascensorista; ordenanza; sereno; ayudantes de diversas funciones; peones; lavandera; planchadora; mucamas/os; personal de limpieza; grumete. | E22: 19 | G22: 19 | H22: 19 | I22: 19 | J22: 18 | K22: 0.36
A23: Docentes Grupo I | B23: Jefe Médico | E23: 20 | G23: 20 | H23: 20 | I23: 20 | J23: 19 | K23: 0.38
A24: Docentes Grupo II | B24: Profesionales con título universitario, Prof. Ed. Física, Guardavidas y/o Bañeros. (Incluye: Médicos, Odontólogos, Farmacéuticos, Psicólogos, Asis.Soc., Kinesiólogos) | E24: 21 | G24: 21 | H24: 21 | I24: 21 | J24: 20 | K24: 0.4
A25: Docentes Grupo III | B25: Prof. de extensión cultural, docentes y demás profesionales con título terciario | E25: 22 | G25: 22 | H25: 22 | I25: 22 | J25: 21 | K25: 0.42
A26: Docentes Grupo IV | B26: Instructores, Entrenadores deportivos, Practicantes, Auxiliar Médico, Enfermeras y Acompañantes terapéuticos | E26: 23 | G26: 23 | H26: 23 | I26: 23 | J26: 22 | K26: 0.44
E27: 24 | G27: 24 | H27: 24 | I27: 24 | J27: 23 | K27: 0.46
E28: 25 | G28: 25 | H28: 25 | I28: 25 | J28: 24 | K28: 0.48
E29: 26 | G29: 26 | H29: 26 | I29: 26 | J29: 25 | K29: 0.5
E30: 27 | G30: 27 | H30: 27 | I30: 27 | J30: 26 | K30: 0.52
E31: 28 | G31: 28 | H31: 28 | I31: 28 | J31: 27 | K31: 0.54
E32: 29 | G32: 29 | H32: 29 | I32: 29 | J32: 28 | K32: 0.56
E33: 30 | G33: 30 | H33: 30 | I33: 30 | J33: 29 | K33: 0.58
E34: 31 | G34: 31 | H34: 31 | I34: 31 | J34: 30 | K34: 0.6
E35: 32 | G35: 32 | H35: 32 | I35: 32 | J35: 31 | K35: 0.62
E36: 33 | G36: 33 | H36: 33 | I36: 33 | J36: 32 | K36: 0.64
E37: 34 | G37: 34 | H37: 34 | I37: 34 | J37: 33 | K37: 0.66
E38: 35 | G38: 35 | H38: 35 | I38: 35 | J38: 34 | K38: 0.68
... E47: 44 | G47: 44 | H47: 44 | I47: 44 | J47: 43 | K47: 0.86
G48: 45 | J48: 44 | K48: 0.88
G49: 46 | J49: 45 | K49: 0.9
G50: 47 | J50: 46 | K50: 0.92
G51: 48 | J51: 47 | K51: 0.94
G52: 49 | J52: 48 | K52: 0.96
G53: 50 | J53: 49 | K53: 0.98
G54: 51 | J54: 50 | K54: 1
G55: 52
G56: 53
G57: 54
G58: 55
G59: 56
G60: 57
G61: 58
G62: 59
G63: 60
G64: 61
G65: 62
G66: 63
... G83: 80

Sheet Grilla Personal
A4: =+"SUELDOS DE "&Datos!A24 -> SUELDOS DE FEBRERO 2026
A6: ÁREA | B6: Supervisión | F6: Sueldo Básico | I6: =IF($B$6<>"Docentes",IF($B$8>29,$B$15,$B$15/44*$B8),$B$15*$B$8) -> 1763354
A7: CATEGORÍA | B7: 1º Categoría | F7: ="Antigüedad"&" "&VLOOKUP($B$9,Cargos!$J$4:$K$54,2,FALSE)*100&"%" -> Antigüedad 0% | I7: =I6*(VLOOKUP($B$9,Cargos!$J$4:$K$54,2,FALSE)) -> 0
A8: =+IF(B6<>"Docentes","CARGA HORARIA SEMANAL","CARGA HORARIA MENSUAL") -> CARGA HORARIA SEMANAL | B8: 44 | F8: B.A.P. | I8: =(I6)*0.1 -> 176335.4
A9: ANTIGÜEDAD EN AÑOS | B9: Sin Antigüedad | F9: =+IF($B$10="SI","Bonif. Título",) -> 0 | I9: =+IF($B$10="SI",Datos!$B$2*Indices!$B$5,) -> 0
A10: BONIF. TÍTULO | B10: NO | F10: =+IF($B$11="SI","Bonif. Idiomas",) -> 0 | I10: =+IF($B$11="SI",Datos!$B$3*Indices!$B$5,) -> 0
A11: BONIF. IDIOMAS | B11: NO | F11: =+IF($B$12="SI","Falla de caja",) -> 0 | I11: =+IF($B$12="SI",Datos!$B$4*Indices!$B$5,) -> 0
A12: FALLA DE CAJA | B12: NO | F12: Total Remunerativo | I12: =SUM(I6:I11) -> 1939689.4
A13: SINDICATO | B13: NO | F13: Retenciones | I13: =(I12*$B$16/100) -> 368540.99
F14: =IF(B6<>"Docentes",IF(I14>0,"O. Social (LCT Art. 92º Ter )",),) -> 0 | I14: =IF($B$6<>"Docentes",IF((($B$15*1)-I12)*0.03>0,IF($B$8<30,(($B$15*1)-I12)*0.03,0),),) -> 0
A15: Sueldo Básico Jornada Completa | B15: =+IF(B6<>"Docentes",VLOOKUP(CONCATENATE(B6," ",B7),Indices!$A$1:$F$338,2,FALSE),VLOOKUP(B7,Indices!$A$1:$F$338,2,FALSE)) -> 1763354 | F15: Total Neto | I15: =I12-I13-I14 -> 1571148.4
A16: Retenciones % | B16: =IF(B13="NO",Datos!B9,Datos!B9+1) -> 19
A20: FUNCIONES
A21: =VLOOKUP(CONCATENATE(B6," ",B7),Cargos!A13:B220,2,FALSE) -> Comprende al personal con responsabilidad y atribuciones para dirigir y distribuir el trabajo entre el personal de la sede, establecimiento o sector, recibiendo órdenes directas de la gerencia general y/o del órgano directivo de la entidad, tales como: contador o jefe de contaduría; intendente general; asesor legal; asesor médico; encargado registro automotores; encargado de filial, farmacéutico; jefe de mantenimiento y conservación; intendente campo de deportes o sede social; mayordomo campo deportes o sede social; programador; analista programador.
