Workbook
Name Director_Ed_Especial_J.C.: Cargos!$H$4:$H$6
Name Enfermería_Nivel_Medio: Cargos!$N$4
Name Enseñanza_Especial_J._Simple: Cargos!$G$4:$G$26
Name Enseñanza_Especial_J.Completa: Cargos!$H$4:$H$6
Name Horas: Datos!$A$53:$A$82
Name Jardin_J._Simple: Cargos!$B$4:$B$12
Name Jardín_J.Completa: Cargos!$D$4:$D$8
Name Medio_Común: Cargos!$I$4:$I$17
Name Medio_T._Completo: Cargos!$K$4:$K$9
Name Medio_Técnico: Cargos!$J$4:$J$10
Name NIVEL: OFFSET(Cargos!$A$1,3,0,COUNTA(Cargos!$A:$A)-2,1)
Name Opciones: Datos!$A$49:$A$50
Name Primario_Adultos: Cargos!$F$4:$F$8
Name Primario_J._Simple: Cargos!$C$4:$C$13
Name Primario_J.Completa: Cargos!$E$4:$E$11
Name Superior_Docente: Cargos!$L$4:$L$14
Name Superior_Técnico_Enfermería: Cargos!$M$4:$M$7
Name Tipologia: Datos!$A$86:$A$88

Sheet Indices
A1: DESCRIPCIÓN DEL CARGO | B1: CODIGO | E1: Jornada | F1: Minimo Garantizado | G1: Dec 483/05 | H1: MAT. DID. NR NB 60% | I1: MAT. DID. R R NB > 60% | J1: Plus Jerarquiz. | K1: Plus Establecimiento | L1: SUMA FIJA
D2: TOTAL INDICES
A3: PERSONAL PROGRAMATICO NIVEL INICIAL Jornada Simple | C3: Orden
A4: Director de Nivel Inicial J.S. | B4: 528 | C4: 1 | D4: 1783 | E4: S | F4: =+IF(D4>$D$19,Datos!$B$15,IF(Datos!$B$15/$D$19*D4<Datos!$C$15,Datos!$C$15,Datos!$B$15/$D$19*D4)) -> 755572.5 | G4: =+IF($D4>$D$19,Datos!$B$3,IF(Datos!$B$3/$D$19*$D4<Datos!$C$3,Datos!$C$3,Datos!$B$3/$D$19*$D4)) -> 288171 | H4: =+IF($D4>$D$19,Datos!$B$6,IF(Datos!$B$6/$D$19*$D4<Datos!$C$6,Datos!$C$6,Datos!$B$6/$D$19*$D4)) -> 175271 | I4: =+IF($D4>$D$19,Datos!$B$9,IF(Datos!$B$9/$D$19*$D4<Datos!$C$9,Datos!$C$9,Datos!$B$9/$D$19*$D4)) -> 217185 | J4: 1 | K4: 1 | L4: =+IF(D4<$D$19,Datos!$B$29,Datos!$B$29) -> 30000
A5: Vicedirector de Nivel Inicial J.S. | B5: 579 | C5: 2 | D5: 1545 | E5: S | F5: =+IF(D5>$D$19,Datos!$B$15,IF(Datos!$B$15/$D$19*D5<Datos!$C$15,Datos!$C$15,Datos!$B$15/$D$19*D5)) -> 755572.5 | G5: =+IF(D5>$D$19,Datos!$B$3,IF(Datos!$B$3/$D$19*D5<Datos!$C$3,Datos!$C$3,Datos!$B$3/$D$19*D5)) -> 288171 | H5: =+IF($D5>$D$19,Datos!$B$6,IF(Datos!$B$6/$D$19*$D5<Datos!$C$6,Datos!$C$6,Datos!$B$6/$D$19*$D5)) -> 175271 | I5: =+IF($D5>$D$19,Datos!$B$9,IF(Datos!$B$9/$D$19*$D5<Datos!$C$9,Datos!$C$9,Datos!$B$9/$D$19*$D5)) -> 217185 | J5: 1 | L5: =+IF(D5<$D$19,Datos!$B$29,Datos!$B$29) -> 30000
A6: Maestro Secretario Niv Inicial J.S. | B6: 544 | C6: 10 | D6: 1307 | E6: S | F6: =+IF(D6>$D$19,Datos!$B$15,IF(Datos!$B$15/$D$19*D6<Datos!$C$15,Datos!$C$15,Datos!$B$15/$D$19*D6)) -> 755572.5 | G6: =+IF(D6>$D$19,Datos!$B$3,IF(Datos!$B$3/$D$19*D6<Datos!$C$3,Datos!$C$3,Datos!$B$3/$D$19*D6)) -> 288171 | H6: =+IF($D6>$D$19,Datos!$B$6,IF(Datos!$B$6/$D$19*$D6<Datos!$C$6,Datos!$C$6,Datos!$B$6/$D$19*$D6)) -> 175271 | I6: =+IF($D6>$D$19,Datos!$B$9,IF(Datos!$B$9/$D$19*$D6<Datos!$C$9,Datos!$C$9,Datos!$B$9/$D$19*$D6)) -> 217185 | J6: 1 | L6: =+IF(D6<$D$19,Datos!$B$29,Datos!$B$29) -> 30000
A7: Maestra de Jardín J.S. | B7: 543 | C7: 30 | D7: 1135 | E7: S | F7: =+IF(D7>$D$19,Datos!$B$15,IF(Datos!$B$15/$D$19*D7<Datos!$C$15,Datos!$C$15,Datos!$B$15/$D$19*D7)) -> 755572.5 | G7: =+IF(D7>$D$19,Datos!$B$3,IF(Datos!$B$3/$D$19*D7<Datos!$C$3,Datos!$C$3,Datos!$B$3/$D$19*D7)) -> 288171 | H7: =+IF($D7>$D$19,Datos!$B$6,IF(Datos!$B$6/$D$19*$D7<Datos!$C$6,Datos!$C$6,Datos!$B$6/$D$19*$D7)) -> 175271 | I7: =+IF($D7>$D$19,Datos!$B$9,IF(Datos!$B$9/$D$19*$D7<Datos!$C$9,Datos!$C$9,Datos!$B$9/$D$19*$D7)) -> 217185 | L7: =+IF(D7<$D$19,Datos!$B$29,Datos!$B$29) -> 30000
A8: Maestra Celadora de Jardín J.S. | B8: 889 | C8: 15 | D8: 981.5 | E8: S | F8: =+IF(D8>$D$19,Datos!$B$15,IF(Datos!$B$15/$D$19*D8<Datos!$C$15,Datos!$C$15,Datos!$B$15/$D$19*D8)) -> 653387.14 | G8: =+IF(D8>$D$19,Datos!$B$3,IF(Datos!$B$3/$D$19*D8<Datos!$C$3,Datos!$C$3,Datos!$B$3/$D$19*D8)) -> 276012.94 | H8: =+IF($D8>$D$19,Datos!$B$6,IF(Datos!$B$6/$D$19*$D8<Datos!$C$6,Datos!$C$6,Datos!$B$6/$D$19*$D8)) -> 168573.91 | I8: =+IF($D8>$D$19,Datos!$B$9,IF(Datos!$B$9/$D$19*$D8<Datos!$C$9,Datos!$C$9,Datos!$B$9/$D$19*$D8)) -> 208897.65 | L8: =+IF(D8<$D$19,Datos!$B$29,Datos!$B$29) -> 30000
A9: Maestra de Apoyo | B9: 906 | C9: 20 | D9: 1135 | E9: S | F9: =+IF(D9>$D$19,Datos!$B$15,IF(Datos!$B$15/$D$19*D9<Datos!$C$15,Datos!$C$15,Datos!$B$15/$D$19*D9)) -> 755572.5 | G9: =+IF(D9>$D$19,Datos!$B$3,IF(Datos!$B$3/$D$19*D9<Datos!$C$3,Datos!$C$3,Datos!$B$3/$D$19*D9)) -> 288171 | H9: =+IF($D9>$D$19,Datos!$B$6,IF(Datos!$B$6/$D$19*$D9<Datos!$C$6,Datos!$C$6,Datos!$B$6/$D$19*$D9)) -> 175271 | I9: =+IF($D9>$D$19,Datos!$B$9,IF(Datos!$B$9/$D$19*$D9<Datos!$C$9,Datos!$C$9,Datos!$B$9/$D$19*$D9)) -> 217185 | L9: =+IF(D9<$D$19,Datos!$B$29,Datos!$B$29) -> 30000
A10: Maestra de Apoyo para Integración J.S. | B10: 907 | C10: 25 | D10: 1135 | E10: S | F10: =+IF(D10>$D$19,Datos!$B$15,IF(Datos!$B$15/$D$19*D10<Datos!$C$15,Datos!$C$15,Datos!$B$15/$D$19*D10)) -> 755572.5 | G10: =+IF(D10>$D$19,Datos!$B$3,IF(Datos!$B$3/$D$19*D10<Datos!$C$3,Datos!$C$3,Datos!$B$3/$D$19*D10)) -> 288171 | H10: =+IF($D10>$D$19,Datos!$B$6,IF(Datos!$B$6/$D$19*$D10<Datos!$C$6,Datos!$C$6,Datos!$B$6/$D$19*$D10)) -> 175271 | I10: =+IF($D10>$D$19,Datos!$B$9,IF(Datos!$B$9/$D$19*$D10<Datos!$C$9,Datos!$C$9,Datos!$B$9/$D$19*$D10)) -> 217185 | L10: =+IF(D10<$D$19,Datos!$B$29,Datos!$B$29) -> 30000
A11: Maestro Especialista Nivel Inicial J.S. | B11: 6901 | C11: 12 | D11: 1307 | E11: S | F11: =+IF(D11>$D$19,Datos!$B$15,IF(Datos!$B$15/$D$19*D11<Datos!$C$15,Datos!$C$15,Datos!$B$15/$D$19*D11)) -> 755572.5 | G11: =+IF(D11>$D$19,Datos!$B$3,IF(Datos!$B$3/$D$19*D11<Datos!$C$3,Datos!$C$3,Datos!$B$3/$D$19*D11)) -> 288171 | H11: =+IF($D11>$D$19,Datos!$B$6,IF(Datos!$B$6/$D$19*$D11<Datos!$C$6,Datos!$C$6,Datos!$B$6/$D$19*$D11)) -> 175271 | I11: =+IF($D11>$D$19,Datos!$B$9,IF(Datos!$B$9/$D$19*$D11<Datos!$C$9,Datos!$C$9,Datos!$B$9/$D$19*$D11)) -> 217185 | J11: 1 | L11: =+IF(D11<$D$19,Datos!$B$29,Datos!$B$29) -> 30000
A12: Hora Cátedra Mtro Especial de Jardín | B12: 566 | C12: 50 | D12: 56 | E12: H | F12: =Datos!$B$15/20 -> 37778.63 | G12: =Datos!$B$5 -> 15166.89 | H12: =Datos!$B$8 -> 9224.79 | I12: =Datos!$B$11 -> 11430.79 | L12: =Datos!$B$31 -> 1578.95
A13: PERSONAL PROGRAMATICO NIVEL E.G.B. - PRIMARIO J. Simple
A14: Director de Primaria J.S. | B14: 585 | C14: 1 | D14: 1783 | E14: S | F14: =+IF(D14>$D$19,Datos!$B$15,IF(Datos!$B$15/$D$19*D14<Datos!$C$15,Datos!$C$15,Datos!$B$15/$D$19*D14)) -> 755572.5 | G14: =+IF(D14>$D$19,Datos!$B$3,IF(Datos!$B$3/$D$19*D14<Datos!$C$3,Datos!$C$3,Datos!$B$3/$D$19*D14)) -> 288171 | H14: =+IF($D14>$D$19,Datos!$B$6,IF(Datos!$B$6/$D$19*$D14<Datos!$C$6,Datos!$C$6,Datos!$B$6/$D$19*$D14)) -> 175271 | I14: =+IF($D14>$D$19,Datos!$B$9,IF(Datos!$B$9/$D$19*$D14<Datos!$C$9,Datos!$C$9,Datos!$B$9/$D$19*$D14)) -> 217185 | J14: 1 | K14: 1 | L14: =+IF(D14<$D$19,Datos!$B$29,Datos!$B$29) -> 30000
A15: Vicedirector de Primaria J.S. | B15: 840 | C15: 2 | D15: 1545 | E15: S | F15: =+IF(D15>$D$19,Datos!$B$15,IF(Datos!$B$15/$D$19*D15<Datos!$C$15,Datos!$C$15,Datos!$B$15/$D$19*D15)) -> 755572.5 | G15: =+IF(D15>$D$19,Datos!$B$3,IF(Datos!$B$3/$D$19*D15<Datos!$C$3,Datos!$C$3,Datos!$B$3/$D$19*D15)) -> 288171 | H15: =+IF($D15>$D$19,Datos!$B$6,IF(Datos!$B$6/$D$19*$D15<Datos!$C$6,Datos!$C$6,Datos!$B$6/$D$19*$D15)) -> 175271 | I15: =+IF($D15>$D$19,Datos!$B$9,IF(Datos!$B$9/$D$19*$D15<Datos!$C$9,Datos!$C$9,Datos!$B$9/$D$19*$D15)) -> 217185 | J15: 1 | L15: =+IF(D15<$D$19,Datos!$B$29,Datos!$B$29) -> 30000
A16: Maestro Secretario Primario J.S. | B16: 846 | C16: 10 | D16: 1307 | E16: S | F16: =+IF(D16>$D$19,Datos!$B$15,IF(Datos!$B$15/$D$19*D16<Datos!$C$15,Datos!$C$15,Datos!$B$15/$D$19*D16)) -> 755572.5 | G16: =+IF(D16>$D$19,Datos!$B$3,IF(Datos!$B$3/$D$19*D16<Datos!$C$3,Datos!$C$3,Datos!$B$3/$D$19*D16)) -> 288171 | H16: =+IF($D16>$D$19,Datos!$B$6,IF(Datos!$B$6/$D$19*$D16<Datos!$C$6,Datos!$C$6,Datos!$B$6/$D$19*$D16)) -> 175271 | I16: =+IF($D16>$D$19,Datos!$B$9,IF(Datos!$B$9/$D$19*$D16<Datos!$C$9,Datos!$C$9,Datos!$B$9/$D$19*$D16)) -> 217185 | J16: 1 | L16: =+IF(D16<$D$19,Datos!$B$29,Datos!$B$29) -> 30000
A17: Maestro de Apoyo | B17: 847 | C17: 20 | D17: 1135 | E17: S | F17: =+IF(D17>$D$19,Datos!$B$15,IF(Datos!$B$15/$D$19*D17<Datos!$C$15,Datos!$C$15,Datos!$B$15/$D$19*D17)) -> 755572.5 | G17: =+IF(D17>$D$19,Datos!$B$3,IF(Datos!$B$3/$D$19*D17<Datos!$C$3,Datos!$C$3,Datos!$B$3/$D$19*D17)) -> 288171 | H17: =+IF($D17>$D$19,Datos!$B$6,IF(Datos!$B$6/$D$19*$D17<Datos!$C$6,Datos!$C$6,Datos!$B$6/$D$19*$D17)) -> 175271 | I17: =+IF($D17>$D$19,Datos!$B$9,IF(Datos!$B$9/$D$19*$D17<Datos!$C$9,Datos!$C$9,Datos!$B$9/$D$19*$D17)) -> 217185 | L17: =+IF(D17<$D$19,Datos!$B$29,Datos!$B$29) -> 30000
A18: Maestro de Apoyo para Integración J.S. | B18: 848 | C18: 20 | D18: 1135 | E18: S | F18: =+IF(D18>$D$19,Datos!$B$15,IF(Datos!$B$15/$D$19*D18<Datos!$C$15,Datos!$C$15,Datos!$B$15/$D$19*D18)) -> 755572.5 | G18: =+IF(D18>$D$19,Datos!$B$3,IF(Datos!$B$3/$D$19*D18<Datos!$C$3,Datos!$C$3,Datos!$B$3/$D$19*D18)) -> 288171 | H18: =+IF($D18>$D$19,Datos!$B$6,IF(Datos!$B$6/$D$19*$D18<Datos!$C$6,Datos!$C$6,Datos!$B$6/$D$19*$D18)) -> 175271 | I18: =+IF($D18>$D$19,Datos!$B$9,IF(Datos!$B$9/$D$19*$D18<Datos!$C$9,Datos!$C$9,Datos!$B$9/$D$19*$D18)) -> 217185 | L18: =+IF(D18<$D$19,Datos!$B$29,Datos!$B$29) -> 30000
A19: Maestro de Grado J.S. | B19: 845 | C19: 30 | D19: 1135 | E19: S | F19: =+IF(D19>$D$19,Datos!$B$15,IF(Datos!$B$15/$D$19*D19<Datos!$C$15,Datos!$C$15,Datos!$B$15/$D$19*D19)) -> 755572.5 | G19: =+IF(D19>$D$19,Datos!$B$3,IF(Datos!$B$3/$D$19*D19<Datos!$C$3,Datos!$C$3,Datos!$B$3/$D$19*D19)) -> 288171 | H19: =+IF($D19>$D$19,Datos!$B$6,IF(Datos!$B$6/$D$19*$D19<Datos!$C$6,Datos!$C$6,Datos!$B$6/$D$19*$D19)) -> 175271 | I19: =+IF($D19>$D$19,Datos!$B$9,IF(Datos!$B$9/$D$19*$D19<Datos!$C$9,Datos!$C$9,Datos!$B$9/$D$19*$D19)) -> 217185 | L19: =+IF(D19<$D$19,Datos!$B$29,Datos!$B$29) -> 30000
A20: Maestro Bibliotecario J.S. | B20: 875 | C20: 25 | D20: 1135 | E20: S | F20: =+IF(D20>$D$19,Datos!$B$15,IF(Datos!$B$15/$D$19*D20<Datos!$C$15,Datos!$C$15,Datos!$B$15/$D$19*D20)) -> 755572.5 | G20: =+IF(D20>$D$19,Datos!$B$3,IF(Datos!$B$3/$D$19*D20<Datos!$C$3,Datos!$C$3,Datos!$B$3/$D$19*D20)) -> 288171 | H20: =+IF($D20>$D$19,Datos!$B$6,IF(Datos!$B$6/$D$19*$D20<Datos!$C$6,Datos!$C$6,Datos!$B$6/$D$19*$D20)) -> 175271 | I20: =+IF($D20>$D$19,Datos!$B$9,IF(Datos!$B$9/$D$19*$D20<Datos!$C$9,Datos!$C$9,Datos!$B$9/$D$19*$D20)) -> 217185 | L20: =+IF(D20<$D$19,Datos!$B$29,Datos!$B$29) -> 30000
A21: Maestro Especialista Nivel Primario J.S. | B21: 6903 | C21: 15 | D21: 1307 | E21: S | F21: =+IF(D21>$D$19,Datos!$B$15,IF(Datos!$B$15/$D$19*D21<Datos!$C$15,Datos!$C$15,Datos!$B$15/$D$19*D21)) -> 755572.5 | G21: =+IF(D21>$D$19,Datos!$B$3,IF(Datos!$B$3/$D$19*D21<Datos!$C$3,Datos!$C$3,Datos!$B$3/$D$19*D21)) -> 288171 | H21: =+IF($D21>$D$19,Datos!$B$6,IF(Datos!$B$6/$D$19*$D21<Datos!$C$6,Datos!$C$6,Datos!$B$6/$D$19*$D21)) -> 175271 | I21: =+IF($D21>$D$19,Datos!$B$9,IF(Datos!$B$9/$D$19*$D21<Datos!$C$9,Datos!$C$9,Datos!$B$9/$D$19*$D21)) -> 217185 | J21: 1 | L21: =+IF(D21<$D$19,Datos!$B$29,Datos!$B$29) -> 30000
A22: Maestro Coord. de Tray. Esc. Nivel Primario J.S. | B22: 6905 | C22: 16 | D22: 1307 | E22: S | F22: =+IF(D22>$D$19,Datos!$B$15,IF(Datos!$B$15/$D$19*D22<Datos!$C$15,Datos!$C$15,Datos!$B$15/$D$19*D22)) -> 755572.5 | G22: =+IF(D22>$D$19,Datos!$B$3,IF(Datos!$B$3/$D$19*D22<Datos!$C$3,Datos!$C$3,Datos!$B$3/$D$19*D22)) -> 288171 | H22: =+IF($D22>$D$19,Datos!$B$6,IF(Datos!$B$6/$D$19*$D22<Datos!$C$6,Datos!$C$6,Datos!$B$6/$D$19*$D22)) -> 175271 | I22: =+IF($D22>$D$19,Datos!$B$9,IF(Datos!$B$9/$D$19*$D22<Datos!$C$9,Datos!$C$9,Datos!$B$9/$D$19*$D22)) -> 217185 | J22: 1 | L22: =+IF(D22<$D$19,Datos!$B$29,Datos!$B$29) -> 30000
A23: Hora Cátedra Maestro Especial Primario | B23: 5566 | C23: 50 | D23: 56 | E23: H | F23: =Datos!$B$15/20 -> 37778.63 | G23: =Datos!$B$5 -> 15166.89 | H23: =Datos!$B$8 -> 9224.79 | I23: =Datos!$B$11 -> 11430.79 | L23: =Datos!$B$31 -> 1578.95
A24: PERSONAL PROGRAMATICO NIVEL INICIAL Jornada Completa | L24: =+IF(D24>$D$19,Datos!$D$33,Datos!$D$33/$D$19*D24) -> 0
A25: Director de N. Inicial J.C. | B25: 835 | C25: 1 | D25: 3125 | E25: C | F25: =+IF(D25>$D$34,Datos!$B$16,IF(Datos!$B$16/$D$34*D25<Datos!$C$16,Datos!$C$16,Datos!$B$16/$D$34*D25)) -> 1511145 | G25: =+IF(D25>$D$34,Datos!$B$4,IF(Datos!$B$4/$D$34*D25<Datos!$C$4,Datos!$C$4,Datos!$B$4/$D$34*D25)) -> 576342 | H25: =+IF($D25>$D$34,Datos!$B$7,IF(Datos!$B$7/$D$34*$D25<Datos!$C$7,Datos!$C$7,Datos!$B$7/$D$34*$D25)) -> 350542 | I25: =+IF($D25>$D$34,Datos!$B$10,IF(Datos!$B$10/$D$34*$D25<Datos!$C$10,Datos!$C$10,Datos!$B$10/$D$34*$D25)) -> 434370 | J25: 1 | K25: 1 | L25: =+IF(D25<$D$34,Datos!$B$30,Datos!$B$30) -> 60000
A26: Vicedirector de N. Inicial J.C. | B26: 877 | C26: 2 | D26: 2667 | E26: C | F26: =+IF(D26>$D$34,Datos!$B$16,IF(Datos!$B$16/$D$34*D26<Datos!$C$16,Datos!$C$16,Datos!$B$16/$D$34*D26)) -> 1511145 | G26: =+IF(D26>$D$34,Datos!$B$4,IF(Datos!$B$4/$D$34*D26<Datos!$C$4,Datos!$C$4,Datos!$B$4/$D$34*D26)) -> 576342 | H26: =+IF($D26>$D$34,Datos!$B$7,IF(Datos!$B$7/$D$34*$D26<Datos!$C$7,Datos!$C$7,Datos!$B$7/$D$34*$D26)) -> 350542 | I26: =+IF($D26>$D$34,Datos!$B$10,IF(Datos!$B$10/$D$34*$D26<Datos!$C$10,Datos!$C$10,Datos!$B$10/$D$34*$D26)) -> 434370 | J26: 1 | L26: =+IF(D26<$D$34,Datos!$B$30,Datos!$B$30) -> 60000
A27: Maestro Secretario N. Inicial J.C. | B27: 838 | C27: 10 | D27: 2359 | E27: C | F27: =+IF(D27>$D$34,Datos!$B$16,IF(Datos!$B$16/$D$34*D27<Datos!$C$16,Datos!$C$16,Datos!$B$16/$D$34*D27)) -> 1511145 | G27: =+IF(D27>$D$34,Datos!$B$4,IF(Datos!$B$4/$D$34*D27<Datos!$C$4,Datos!$C$4,Datos!$B$4/$D$34*D27)) -> 576342 | H27: =+IF($D27>$D$34,Datos!$B$7,IF(Datos!$B$7/$D$34*$D27<Datos!$C$7,Datos!$C$7,Datos!$B$7/$D$34*$D27)) -> 350542 | I27: =+IF($D27>$D$34,Datos!$B$10,IF(Datos!$B$10/$D$34*$D27<Datos!$C$10,Datos!$C$10,Datos!$B$10/$D$34*$D27)) -> 434370 | J27: 1 | L27: =+IF(D27<$D$34,Datos!$B$30,Datos!$B$30) -> 60000
A28: Maestro Especialista Nivel Inicial J.C. | B28: 6902 | C28: 15 | D28: 2359 | E28: C | F28: =+IF(D28>$D$34,Datos!$B$16,IF(Datos!$B$16/$D$34*D28<Datos!$C$16,Datos!$C$16,Datos!$B$16/$D$34*D28)) -> 1511145 | G28: =+IF(D28>$D$34,Datos!$B$4,IF(Datos!$B$4/$D$34*D28<Datos!$C$4,Datos!$C$4,Datos!$B$4/$D$34*D28)) -> 576342 | H28: =+IF($D28>$D$34,Datos!$B$7,IF(Datos!$B$7/$D$34*$D28<Datos!$C$7,Datos!$C$7,Datos!$B$7/$D$34*$D28)) -> 350542 | I28: =+IF($D28>$D$34,Datos!$B$10,IF(Datos!$B$10/$D$34*$D28<Datos!$C$10,Datos!$C$10,Datos!$B$10/$D$34*$D28)) -> 434370 | J28: 1 | L28: =+IF(D28<$D$34,Datos!$B$30,Datos!$B$30) -> 60000
A29: Hora Cátedra Mtro. Especial N.I. J.C. | B29: 566 | C29: 50 | D29: 56 | E29: H | F29: =Datos!$B$15/20 -> 37778.63 | G29: =Datos!$B$5 -> 15166.89 | H29: =Datos!$B$8 -> 9224.79 | I29: =Datos!$B$11 -> 11430.79 | L29: =Datos!$B$31 -> 1578.95
A30: PERSONAL PROGRAMATICO NIVEL E.G.B.-PRIMARIO J. Compl | L30: =+IF(D30>$D$19,Datos!$D$33,Datos!$D$33/$D$19*D30) -> 0
A31: Director de Primaria J.C. | B31: 834 | C31: 1 | D31: 3125 | E31: C | F31: =+IF(D31>$D$34,Datos!$B$16,IF(Datos!$B$16/$D$34*D31<Datos!$C$16,Datos!$C$16,Datos!$B$16/$D$34*D31)) -> 1511145 | G31: =+IF(D31>$D$34,Datos!$B$4,IF(Datos!$B$4/$D$34*D31<Datos!$C$4,Datos!$C$4,Datos!$B$4/$D$34*D31)) -> 576342 | H31: =+IF($D31>$D$34,Datos!$B$7,IF(Datos!$B$7/$D$34*$D31<Datos!$C$7,Datos!$C$7,Datos!$B$7/$D$34*$D31)) -> 350542 | I31: =+IF($D31>$D$34,Datos!$B$10,IF(Datos!$B$10/$D$34*$D31<Datos!$C$10,Datos!$C$10,Datos!$B$10/$D$34*$D31)) -> 434370 | J31: 1 | K31: 1 | L31: =+IF(D31<$D$34,Datos!$B$30,Datos!$B$30) -> 60000
A32: Vicedirector de Primaria J.C. | B32: 870 | C32: 2 | D32: 2667 | E32: C | F32: =+IF(D32>$D$34,Datos!$B$16,IF(Datos!$B$16/$D$34*D32<Datos!$C$16,Datos!$C$16,Datos!$B$16/$D$34*D32)) -> 1511145 | G32: =+IF(D32>$D$34,Datos!$B$4,IF(Datos!$B$4/$D$34*D32<Datos!$C$4,Datos!$C$4,Datos!$B$4/$D$34*D32)) -> 576342 | H32: =+IF($D32>$D$34,Datos!$B$7,IF(Datos!$B$7/$D$34*$D32<Datos!$C$7,Datos!$C$7,Datos!$B$7/$D$34*$D32)) -> 350542 | I32: =+IF($D32>$D$34,Datos!$B$10,IF(Datos!$B$10/$D$34*$D32<Datos!$C$10,Datos!$C$10,Datos!$B$10/$D$34*$D32)) -> 434370 | J32: 1 | L32: =+IF(D32<$D$34,Datos!$B$30,Datos!$B$30) -> 60000
A33: Mtro. Secretario de Primario J.C. | B33: 849 | C33: 10 | D33: 2359 | E33: C | F33: =+IF(D33>$D$34,Datos!$B$16,IF(Datos!$B$16/$D$34*D33<Datos!$C$16,Datos!$C$16,Datos!$B$16/$D$34*D33)) -> 1511145 | G33: =+IF(D33>$D$34,Datos!$B$4,IF(Datos!$B$4/$D$34*D33<Datos!$C$4,Datos!$C$4,Datos!$B$4/$D$34*D33)) -> 576342 | H33: =+IF($D33>$D$34,Datos!$B$7,IF(Datos!$B$7/$D$34*$D33<Datos!$C$7,Datos!$C$7,Datos!$B$7/$D$34*$D33)) -> 350542 | I33: =+IF($D33>$D$34,Datos!$B$10,IF(Datos!$B$10/$D$34*$D33<Datos!$C$10,Datos!$C$10,Datos!$B$10/$D$34*$D33)) -> 434370 | J33: 1 | L33: =+IF(D33<$D$34,Datos!$B$30,Datos!$B$30) -> 60000
A34: Maestro de Grado J.C. | B34: 855 | C34: 30 | D34: 2070 | E34: C | F34: =+IF(D34>$D$34,Datos!$B$16,IF(Datos!$B$16/$D$34*D34<Datos!$C$16,Datos!$C$16,Datos!$B$16/$D$34*D34)) -> 1511145 | G34: =+IF(D34>$D$34,Datos!$B$4,IF(Datos!$B$4/$D$34*D34<Datos!$C$4,Datos!$C$4,Datos!$B$4/$D$34*D34)) -> 576342 | H34: =+IF($D34>$D$34,Datos!$B$7,IF(Datos!$B$7/$D$34*$D34<Datos!$C$7,Datos!$C$7,Datos!$B$7/$D$34*$D34)) -> 350542 | I34: =+IF($D34>$D$34,Datos!$B$10,IF(Datos!$B$10/$D$34*$D34<Datos!$C$10,Datos!$C$10,Datos!$B$10/$D$34*$D34)) -> 434370 | L34: =+IF(D34<$D$34,Datos!$B$30,Datos!$B$30) -> 60000
A35: Maestro de Apoyo J.C. | B35: 856 | C35: 20 | D35: 2070 | E35: C | F35: =+IF(D35>$D$34,Datos!$B$16,IF(Datos!$B$16/$D$34*D35<Datos!$C$16,Datos!$C$16,Datos!$B$16/$D$34*D35)) -> 1511145 | G35: =+IF(D35>$D$34,Datos!$B$4,IF(Datos!$B$4/$D$34*D35<Datos!$C$4,Datos!$C$4,Datos!$B$4/$D$34*D35)) -> 576342 | H35: =+IF($D35>$D$34,Datos!$B$7,IF(Datos!$B$7/$D$34*$D35<Datos!$C$7,Datos!$C$7,Datos!$B$7/$D$34*$D35)) -> 350542 | I35: =+IF($D35>$D$34,Datos!$B$10,IF(Datos!$B$10/$D$34*$D35<Datos!$C$10,Datos!$C$10,Datos!$B$10/$D$34*$D35)) -> 434370 | L35: =+IF(D35<$D$34,Datos!$B$30,Datos!$B$30) -> 60000
A36: Maestro Especialista Nivel Primario J.C. | B36: 6904 | C36: 15 | D36: 2359 | E36: C | F36: =+IF(D36>$D$34,Datos!$B$16,IF(Datos!$B$16/$D$34*D36<Datos!$C$16,Datos!$C$16,Datos!$B$16/$D$34*D36)) -> 1511145 | G36: =+IF(D36>$D$34,Datos!$B$4,IF(Datos!$B$4/$D$34*D36<Datos!$C$4,Datos!$C$4,Datos!$B$4/$D$34*D36)) -> 576342 | H36: =+IF($D36>$D$34,Datos!$B$7,IF(Datos!$B$7/$D$34*$D36<Datos!$C$7,Datos!$C$7,Datos!$B$7/$D$34*$D36)) -> 350542 | I36: =+IF($D36>$D$34,Datos!$B$10,IF(Datos!$B$10/$D$34*$D36<Datos!$C$10,Datos!$C$10,Datos!$B$10/$D$34*$D36)) -> 434370 | J36: 1 | L36: =+IF(D36<$D$34,Datos!$B$30,Datos!$B$30) -> 60000
A37: Maestro Coord. de Tray. Esc. Nivel Primario J.C. | B37: 6906 | C37: 16 | D37: 2359 | E37: C | F37: =+IF(D37>$D$34,Datos!$B$16,IF(Datos!$B$16/$D$34*D37<Datos!$C$16,Datos!$C$16,Datos!$B$16/$D$34*D37)) -> 1511145 | G37: =+IF(D37>$D$34,Datos!$B$4,IF(Datos!$B$4/$D$34*D37<Datos!$C$4,Datos!$C$4,Datos!$B$4/$D$34*D37)) -> 576342 | H37: =+IF($D37>$D$34,Datos!$B$7,IF(Datos!$B$7/$D$34*$D37<Datos!$C$7,Datos!$C$7,Datos!$B$7/$D$34*$D37)) -> 350542 | I37: =+IF($D37>$D$34,Datos!$B$10,IF(Datos!$B$10/$D$34*$D37<Datos!$C$10,Datos!$C$10,Datos!$B$10/$D$34*$D37)) -> 434370 | J37: 1 | L37: =+IF(D37<$D$34,Datos!$B$30,Datos!$B$30) -> 60000
A38: Hora Cátedra de Mtro Especial de Prim J.C. | B38: 5567 | C38: 50 | D38: 56 | E38: H | F38: =Datos!$B$15/20 -> 37778.63 | G38: =Datos!$B$5 -> 15166.89 | H38: =Datos!$B$8 -> 9224.79 | I38: =Datos!$B$11 -> 11430.79 | L38: =Datos!$B$31 -> 1578.95
A39: PERSONAL PROGRAMATICO NIVEL E.G.B. - PRIMARIO de Adultos | L39: =+IF(D39>$D$19,Datos!$D$33,Datos!$D$33/$D$19*D39) -> 0
A40: Director de Primaria de Adultos | B40: 578 | C40: 1 | D40: 1187 | F40: =+IF(D40>$D$19,Datos!$B$15,IF(Datos!$B$15/$D$19*D40<Datos!$C$15,Datos!$C$15,Datos!$B$15/$D$19*D40)) -> 755572.5 | G40: =+IF(D40>$D$19,Datos!$B$3,IF(Datos!$B$3/$D$19*D40<Datos!$C$3,Datos!$C$3,Datos!$B$3/$D$19*D40)) -> 288171 | H40: =+IF($D40>$D$19,Datos!$B$6,IF(Datos!$B$6/$D$19*$D40<Datos!$C$6,Datos!$C$6,Datos!$B$6/$D$19*$D40)) -> 175271 | I40: =+IF($D40>$D$19,Datos!$B$9,IF(Datos!$B$9/$D$19*$D40<Datos!$C$9,Datos!$C$9,Datos!$B$9/$D$19*$D40)) -> 217185 | J40: 1 | K40: 1 | L40: =+IF(D40<$D$19,Datos!$B$29,Datos!$B$29) -> 30000
...

Sheet Datos
A1: Concepto | B1: Valor | C1: Piso | D1: Topes
A2: Valor Indice docente | B2: 189.477
A3: Decreto 243/08 Art. 2º JS | B3: 288171 | C3: 276012.94 | D3: 2 cargos
A4: Decreto 243/08 Art. 2º JC | B4: =+B3*2 -> 576342 | C4: =+C3*2 -> 552025.88
A5: Decreto 243/08 Art. 2º x hora | B5: =+B3/19 -> 15166.89 | D5: 38 hs
A6: MAT. DID NR JS | B6: 175271 | C6: 168573.91 | D6: 2 cargos
A7: MAT. DID NR JC | B7: =+B6*2 -> 350542 | C7: =+C6*2+0.01 -> 337147.83
A8: MAT. DID NR X HS | B8: =+B6/19 -> 9224.79 | D8: 38 hs
A9: MAT. DID R JS | B9: 217185 | C9: 208897.65 | D9: 2 cargos
A10: MAT. DID R JC | B10: =+B9*2 -> 434370 | C10: =+C9*2 -> 417795.3
A11: MAT. DID R X HS | B11: =+B9/19 -> 11430.79 | D11: 38 hs
A12: ADICIONAL ESPECIAL NR NB JS | B12: 0 | D12: 2 cargos
A13: ADICIONAL ESPECIAL NR NB JC | B13: 0
A14: ADICIONAL ESPECIAL NR NB X H | B14: 0 | C14: =ROUNDUP(B12/12,4) -> 0 | D14: 30 hs I-P-M / 24 HS SUP.
A15: Mínimo.Garantia.J.S. | B15: 755572.5 | C15: 494956.85
A16: Mínimo.Garantia.J.C. | B16: =+B15*2 -> 1511145 | C16: 1235859.7
A17: Mínimo.Garantia x hs | B17: =+B15/20 -> 37778.63
A19: Incentivo Docente JS | B19: 0 | D19: 2 cargos
A20: Incentivo Docente JC | B20: =+B19*2 -> 0
A21: Incentivo Docente x hora | B21: =+B19/15 -> 0 | C21: =+B19/12 -> 0 | D21: 30 hs I-P-M / 24 HS SUP.
A22: COMP TRANSITORIA JS | B22: 0 | D22: 2 cargos
A23: COMP TRANSITORIA JC | B23: =+B22*2 -> 0
A24: COMP TRANSITORIA X HS | B24: =+B22/15 -> 0 | C24: =+B22/12 -> 0 | D24: 30 hs I-P-M / 24 HS SUP.
A25: COMPENSACION FIJA PROP. NR JS | B25: 34000 | D25: 2 cargos
A26: COMPENSACION FIJA PROP. NR JC | B26: =B25*2 -> 68000
A27: COMPENSACION FIJA PROP. NR X H | B27: =ROUNDUP(B26/30,4) -> 2266.67 | C27: =ROUNDUP(B26/24,4) -> 2833.33 | D27: 30 hs I-P-M / 24 HS SUP.
A29: SUMA FIJA NO REM JS | B29: 30000 | D29: 2 cargos o 38 hs
A30: SUMA FIJA NO REM JC | B30: =+B29*2 -> 60000
A31: SUMA FIJA NO REM x hs | B31: =+B29/19 -> 1578.95
D32: SUMA FIJA NR NB (BONO)
D33: 0
A34: Retenciones con Caja Compl. | B34: 23.5 | D34: 0
A35: Retenciones sin Caja Compl. | B35: 19 | D35: =+D33/19 -> 0
A36: Base Imponible Máxima | B36: 3571608.5 | E36: OJO CAMBIAR ESTE VALOR!!!!!!!!!!!!!!
A38: Items Sueldo (Decretos)
A39: Decreto 483/05 y Modif.
A40: Comp. Mínimo Garantizado
A41: OCTUBRE 2025
A42: Comp. Fija Prop. (CFP)
A43: Compensación Transitoria
...

Sheet Cargos
A1: Tener presente que en caso de agregar cargos a algun nivel se debera redefinir el rango del mismo
A3: NIVEL | B3: Jardin J. Simple | C3: Primario J. Simple | D3: Jardín J.Completa | E3: Primario J.Completa | F3: Primario Adultos | G3: Enseñanza Especial J. Simple | H3: Enseñanza Especial J.Completa | I3: Medio Común | J3: Medio Técnico | K3: Medio T. Completo | L3: Superior Docente | M3: Superior Técnico Enfermería | N3: Enfermería Nivel Medio
A4: Jardin J. Simple | B4: Director de Nivel Inicial J.S. | C4: Director de Primaria J.S. | D4: Director de N. Inicial J.C. | E4: Director de Primaria J.C. | F4: Director de Primaria de Adultos | G4: Director Ed Especial J.S. | H4: Director Ed Especial J.C. | I4: Rector | J4: Regente | K4: Rector N Medio T. Completo | L4: Rector N Superior Docente | M4: Rector N Tecnico-Enfermería | N4: Instructor de Enfermería
A5: Primario J. Simple | B5: Vicedirector de Nivel Inicial J.S. | C5: Vicedirector de Primaria J.S. | D5: Vicedirector de N. Inicial J.C. | E5: Vicedirector de Primaria J.C. | F5: Maestro Secretario Prim de adultos | G5: Vicedirector Ed Especial J.S. | H5: Vicedirector Ed Especial J.C. | I5: Director de Estudios | J5: Jefe Gral.Ens.Práct. | K5: Director de Estudios N Medio T.Completo | L5: Vicerrector o Director de Estud. | M5: Vicerrector o Director Estudios N.Tec.Enf.
A6: Jardín J.Completa | B6: Maestro Secretario Niv Inicial J.S. | C6: Maestro Secretario Primario J.S. | D6: Maestro Secretario N. Inicial J.C. | E6: Mtro. Secretario de Primario J.C. | F6: Maestro de Grado o Ciclo de adultos | G6: Maestro Secretario Ed. Especial J.S. | H6: Mtro. Secretario EE J.C. | I6: Secretario | J6: Jefe de Laboratorio | K6: Asesor Pedagógico | L6: Secretario N. Sup. | M6: Bedel N Tecnico-Enfermería
A7: Primario J.Completa | B7: Maestra de Jardín J.S. | C7: Maestro de Apoyo | D7: Maestro Especialista Nivel Inicial J.C. | E7: Maestro de Grado J.C. | F7: Maestro Mat. Complementarias | G7: M.Gr. o Grupo Escolar (incluye M Integr y M Aux Gru) | I7: Prosecretario | J7: Maestro de Ens. Práctica | K7: Psicopedagogo T.C. | L7: Profesor Jefe de Trab. Prácticos | M7: Profesor de Enfermería (Instructor 36 HC)
A8: Primario Adultos | B8: Maestra Celadora de Jardín J.S. | C8: Maestro de Apoyo para Integración J.S. | D8: Hora Cátedra Mtro. Especial N.I. J.C. | E8: Maestro de Apoyo J.C. | F8: Hora cátedra Mtro. Especial Prim de Adultos | G8: Maestro Reeducador Vocal | I8: Bibliotecario | J8: Mtro. De Ens. Práct. Jefe de Secc. | K8: Ayudante de Orientación | L8: Profesor Asistente de Trab.Pract.
A9: Enseñanza Especial J. Simple | B9: Maestra de Apoyo | C9: Maestro de Grado J.S. | E9: Maestro Especialista Nivel Primario J.C. | G9: Maestro Reeducador Acústico | I9: Ayudante de Dto. De Orientación | J9: Mtro. Ayud. De Ens. Práctica | K9: Profesor Tiempo Completo | L9: Pro-Secretario
A10: Enseñanza Especial J.Completa | B10: Maestra de Apoyo para Integración J.S. | C10: Maestro Bibliotecario J.S. | E10: Maestro Coord. de Tray. Esc. Nivel Primario J.C. | G10: Maestro Asistente Social | I10: Jefe de Preceptores | J10: Ayudante Téc. De Trab. Práct. | K10: Profesor Tiempo Parcial 1 (30 horas) | L10: Bedel
A11: Medio Común | B11: Maestro Especialista Nivel Inicial J.S. | C11: Maestro Especialista Nivel Primario J.S. | E11: Hora Cátedra de Mtro Especial de Prim J.C. | G11: Maestro Terapista Ocupacional | I11: Sub-Jefe de Preceptores | K11: Profesor Tiempo Parcial 2 (24 horas) | L11: Bibliotecario Sup.
A12: Medio Técnico | B12: Hora Cátedra Mtro Especial de Jardín | C12: Maestro Coord. de Tray. Esc. Nivel Primario J.S. | G12: Maestro Psicólogo | I12: Ayudante de Clases Prácticas | K12: Profesor Tiempo Parcial 3 (18 horas) | L12: Ayudante de Clases Prácticas NS
A13: Medio T. Completo | C13: Hora Cátedra Maestro Especial Primario | G13: Maestro de Actividades Práct. | I13: Referente ACAP | K13: Profesor Tiempo Parcial 4 (12 horas) | L13: Ayudante de Trabajos Práct.
A14: Superior Docente | G14: Preceptor - Maestro Celador | I14: Interprete de Lengua de Señas | L14: Hora Cátedra N. Sup.
G15: Maestro de Grupo Escolar Auxiliar | I15: Psicopedagogo
G16: Ayud. Clases/Trabajos Prácticos | I16: Preceptor
G17: Maestro Gabinetista Psicotéc. | I17: Hora cátedra
G18: Maestro Bibliotecario
G19: Hora Maestro de Grado o Grupo
G20: Hora Mtro. Reed. Vocal
G21: Hora Mtro. Reed. Acústico
G22: Hora Mtro. Asistente Social
G23: Hora Mtro. Psicólogo
G24: Hora Mtro. Act. Prácticas
G25: Hora Mtro. De Materias Especiales
G26: Hora Mtro. Gabinetista

Sheet Grilla Personal Docente
A4: =+Datos!A41 -> OCTUBRE 2025
B6: NIVEL | E6: Primario J. Simple
B7: CARGO | E7: Maestro de Grado J.S.
B8: RETIENE CAJA COMPL. | E8: SI
B9: APORTE SINDICAL 2% | E9: NO
B10: CARGA HORARIA (HS. CAT.) | E10: 1
B11: TIPOLOGÍA DE ESTABLEC. % | E11: 6
B13: Indice Básico Unificado | E13: =+VLOOKUP($E$7,Indices!$A$1:$D$503,4,FALSE) -> 1135
B14: Código del cargo | E14: =+VLOOKUP($E$7,Indices!$A$1:$C$503,2,FALSE) -> 845
B15: Valor Índice Docente | E15: =+Datos!B2 -> 189.477
B16: Retenciones de ley % | E16: =+IF(E9="SI",2+IF(E8="SI",Datos!B34,Datos!B35),IF(E8="SI",Datos!B34,Datos!B35)) -> 23.5
B17: Base Imponible Máxima | E17: =+Datos!B36 -> 3571608.5
B19: INICIAL | C19: 1 AÑO | D19: 4 AÑOS | E19: 7 AÑOS | F19: 10 AÑOS | G19: 12 AÑOS | H19: 14 AÑOS | I19: 16 AÑOS | J19: 18 AÑOS | K19: 20 AÑOS | L19: 22 AÑOS
C20: 0.3 | D20: 0.4 | E20: 0.5 | F20: 0.6 | G20: 0.7 | H20: 0.8 | I20: 0.9 | J20: 1 | K20: 1.1 | L20: 1.2
A21: Sueldo Básico Unificado | B21: =IF(CODE($E$7)=72,$E$10*$E$13*Datos!$B$2,$E$13*Datos!$B$2) -> 215056.4 | C21: =IF(CODE($E$7)=72,$E$10*$E$13*Datos!$B$2,$E$13*Datos!$B$2) -> 215056.4 | D21: =IF(CODE($E$7)=72,$E$10*$E$13*Datos!$B$2,$E$13*Datos!$B$2) -> 215056.4 | E21: =IF(CODE($E$7)=72,$E$10*$E$13*Datos!$B$2,$E$13*Datos!$B$2) -> 215056.4 | F21: =IF(CODE($E$7)=72,$E$10*$E$13*Datos!$B$2,$E$13*Datos!$B$2) -> 215056.4 | G21: =IF(CODE($E$7)=72,$E$10*$E$13*Datos!$B$2,$E$13*Datos!$B$2) -> 215056.4 | H21: =IF(CODE($E$7)=72,$E$10*$E$13*Datos!$B$2,$E$13*Datos!$B$2) -> 215056.4 | I21: =IF(CODE($E$7)=72,$E$10*$E$13*Datos!$B$2,$E$13*Datos!$B$2) -> 215056.4 | ... L21: =IF(CODE($E$7)=72,$E$10*$E$13*Datos!$B$2,$E$13*Datos!$B$2) -> 215056.4
A22: =IF(B22>0,IF(OR(E14=6901,E14=6902,E14=6903,E14=6904,E14=6905,E14=6906),"Jerarquización Horizontal","Plus Difer. por Jerarquización"),0) -> 0 | B22: =B21*0.15*VLOOKUP($E$14,Indices!$B$4:$K$211,9,FALSE) -> 0 | C22: =C21*0.15*VLOOKUP($E$14,Indices!$B$4:$K$211,9,FALSE) -> 0 | D22: =D21*0.15*VLOOKUP($E$14,Indices!$B$4:$K$211,9,FALSE) -> 0 | E22: =E21*0.15*VLOOKUP($E$14,Indices!$B$4:$K$211,9,FALSE) -> 0 | F22: =F21*0.15*VLOOKUP($E$14,Indices!$B$4:$K$211,9,FALSE) -> 0 | G22: =G21*0.15*VLOOKUP($E$14,Indices!$B$4:$K$211,9,FALSE) -> 0 | H22: =H21*0.15*VLOOKUP($E$14,Indices!$B$4:$K$211,9,FALSE) -> 0 | I22: =I21*0.15*VLOOKUP($E$14,Indices!$B$4:$K$211,9,FALSE) -> 0 | ... L22: =L21*0.15*VLOOKUP($E$14,Indices!$B$4:$K$211,9,FALSE) -> 0
A23: =IF(B23>0,"Plus Difer. por Establecimiento",0) -> 0 | B23: =B21*$E$11/100*VLOOKUP($E$14,Indices!$B$4:$K$211,10,FALSE) -> 0 | C23: =C21*$E$11/100*VLOOKUP($E$14,Indices!$B$4:$K$211,10,FALSE) -> 0 | D23: =D21*$E$11/100*VLOOKUP($E$14,Indices!$B$4:$K$211,10,FALSE) -> 0 | E23: =E21*$E$11/100*VLOOKUP($E$14,Indices!$B$4:$K$211,10,FALSE) -> 0 | F23: =F21*$E$11/100*VLOOKUP($E$14,Indices!$B$4:$K$211,10,FALSE) -> 0 | G23: =G21*$E$11/100*VLOOKUP($E$14,Indices!$B$4:$K$211,10,FALSE) -> 0 | H23: =H21*$E$11/100*VLOOKUP($E$14,Indices!$B$4:$K$211,10,FALSE) -> 0 | I23: =I21*$E$11/100*VLOOKUP($E$14,Indices!$B$4:$K$211,10,FALSE) -> 0 | ... L23: =L21*$E$11/100*VLOOKUP($E$14,Indices!$B$4:$K$211,10,FALSE) -> 0
A24: =+Datos!A39 -> Decreto 483/05 y Modif. | B24: =IF(CODE($E$7)=72,$E$10*Datos!$B$5,VLOOKUP($E$14,Indices!$B$3:$N$211,6,FALSE)) -> 288171 | C24: =IF(CODE($E$7)=72,$E$10*Datos!$B$5,VLOOKUP($E$14,Indices!$B$3:$N$211,6,FALSE)) -> 288171 | D24: =IF(CODE($E$7)=72,$E$10*Datos!$B$5,VLOOKUP($E$14,Indices!$B$3:$N$211,6,FALSE)) -> 288171 | E24: =IF(CODE($E$7)=72,$E$10*Datos!$B$5,VLOOKUP($E$14,Indices!$B$3:$N$211,6,FALSE)) -> 288171 | F24: =IF(CODE($E$7)=72,$E$10*Datos!$B$5,VLOOKUP($E$14,Indices!$B$3:$N$211,6,FALSE)) -> 288171 | G24: =IF(CODE($E$7)=72,$E$10*Datos!$B$5,VLOOKUP($E$14,Indices!$B$3:$N$211,6,FALSE)) -> 288171 | H24: =IF(CODE($E$7)=72,$E$10*Datos!$B$5,VLOOKUP($E$14,Indices!$B$3:$N$211,6,FALSE)) -> 288171 | I24: =IF(CODE($E$7)=72,$E$10*Datos!$B$5,VLOOKUP($E$14,Indices!$B$3:$N$211,6,FALSE)) -> 288171 | ... L24: =IF(CODE($E$7)=72,$E$10*Datos!$B$5,VLOOKUP($E$14,Indices!$B$3:$N$211,6,FALSE)) -> 288171
A25: Antigüedad | B25: =SUM(B21:B24)*B20 -> 0 | C25: =SUM(C21:C24)*C20 -> 150968.22 | D25: =SUM(D21:D24)*D20 -> 201290.96 | E25: =SUM(E21:E24)*E20 -> 251613.7 | F25: =SUM(F21:F24)*F20 -> 301936.44 | G25: =SUM(G21:G24)*G20 -> 352259.18 | H25: =SUM(H21:H24)*H20 -> 402581.92 | I25: =SUM(I21:I24)*I20 -> 452904.66 | ... L25: =SUM(L21:L24)*L20 -> 603872.88
A26: Presentismo (Estímulo Art. 4º) | B26: =SUM(B21:B24)*10% -> 50322.74 | C26: =SUM(C21:C24)*10% -> 50322.74 | D26: =SUM(D21:D24)*10% -> 50322.74 | E26: =SUM(E21:E24)*10% -> 50322.74 | F26: =SUM(F21:F24)*10% -> 50322.74 | G26: =SUM(G21:G24)*10% -> 50322.74 | H26: =SUM(H21:H24)*10% -> 50322.74 | I26: =SUM(I21:I24)*10% -> 50322.74 | ... L26: =SUM(L21:L24)*10% -> 50322.74
A27: =IF(B27>0,"Complemento Art. 128º",0) -> 0 | B27: =IF(ISERROR(FIND("Especial",$E$6,1))=FALSE,(B21+B22+B23+B24)*0.15,0) -> 0 | C27: =IF(ISERROR(FIND("Especial",$E$6,1))=FALSE,(C21+C22+C23+C24)*0.15,0) -> 0 | D27: =IF(ISERROR(FIND("Especial",$E$6,1))=FALSE,(D21+D22+D23+D24)*0.15,0) -> 0 | E27: =IF(ISERROR(FIND("Especial",$E$6,1))=FALSE,(E21+E22+E23+E24)*0.15,0) -> 0 | F27: =IF(ISERROR(FIND("Especial",$E$6,1))=FALSE,(F21+F22+F23+F24)*0.15,0) -> 0 | G27: =IF(ISERROR(FIND("Especial",$E$6,1))=FALSE,(G21+G22+G23+G24)*0.15,0) -> 0 | H27: =IF(ISERROR(FIND("Especial",$E$6,1))=FALSE,(H21+H22+H23+H24)*0.15,0) -> 0 | I27: =IF(ISERROR(FIND("Especial",$E$6,1))=FALSE,(I21+I22+I23+I24)*0.15,0) -> 0 | ... L27: =IF(ISERROR(FIND("Especial",$E$6,1))=FALSE,(L21+L22+L23+L24)*0.15,0) -> 0
A28: =+Datos!A45 -> Material Didáctico R | E28: =IF(CODE($E$7)=72,$E$10*Datos!$B$11,VLOOKUP($E$14,Indices!$B$3:$N$211,8,FALSE)) -> 217185 | F28: =IF(CODE($E$7)=72,$E$10*Datos!$B$11,VLOOKUP($E$14,Indices!$B$3:$N$211,8,FALSE)) -> 217185 | G28: =IF(CODE($E$7)=72,$E$10*Datos!$B$11,VLOOKUP($E$14,Indices!$B$3:$N$211,8,FALSE)) -> 217185 | H28: =IF(CODE($E$7)=72,$E$10*Datos!$B$11,VLOOKUP($E$14,Indices!$B$3:$N$211,8,FALSE)) -> 217185 | I28: =IF(CODE($E$7)=72,$E$10*Datos!$B$11,VLOOKUP($E$14,Indices!$B$3:$N$211,8,FALSE)) -> 217185 | J28: =IF(CODE($E$7)=72,$E$10*Datos!$B$11,VLOOKUP($E$14,Indices!$B$3:$N$211,8,FALSE)) -> 217185 | K28: =IF(CODE($E$7)=72,$E$10*Datos!$B$11,VLOOKUP($E$14,Indices!$B$3:$N$211,8,FALSE)) -> 217185 | L28: =IF(CODE($E$7)=72,$E$10*Datos!$B$11,VLOOKUP($E$14,Indices!$B$3:$N$211,8,FALSE)) -> 217185
A29: Total Remunerativo | B29: =SUM(B21:B28) -> 553550.14 | C29: =SUM(C21:C28) -> 704518.36 | D29: =SUM(D21:D28) -> 754841.1 | E29: =SUM(E21:E28) -> 1022348.8 | F29: =SUM(F21:F28) -> 1072671.6 | G29: =SUM(G21:G28) -> 1122994.3 | H29: =SUM(H21:H28) -> 1173317.1 | I29: =SUM(I21:I28) -> 1223639.8 | ... L29: =SUM(L21:L28) -> 1374608
A30: =+Datos!A44 -> Material Didáctico | B30: =IF(CODE($E$7)=72,$E$10*Datos!$B$8,VLOOKUP($E$14,Indices!$B$3:$N$211,7,FALSE)) -> 175271 | C30: =IF(CODE($E$7)=72,$E$10*Datos!$B$8,VLOOKUP($E$14,Indices!$B$3:$N$211,7,FALSE)) -> 175271 | D30: =IF(CODE($E$7)=72,$E$10*Datos!$B$8,VLOOKUP($E$14,Indices!$B$3:$N$211,7,FALSE)) -> 175271
A31: =+Datos!A40 -> Comp. Mínimo Garantizado | B31: =IF(CODE($E$7)=72,IF(((B29-B38)-(B29-B38)*IF($E$9="SI",$E$16-2,$E$16)/100+B30)<VLOOKUP($E$14,Indices!$B$4:$F$211,5,FALSE)*$E$10,(VLOOKUP($E$14,Indices!$B$4:$F$211,5,FALSE)*$E$10-B30)-((B29-B38)-(B29-B38)*IF($E$9="SI",$E$16-2,$E$16)/100),0),IF(((B29-B38)-(B29-B38)*IF($E$9="SI",$E$16-2,$E$16)/100+B30)<VLOOKUP($E$14,Indices!$B$4:$F$211,5,FALSE),(VLOOKUP($E$14,Indices!$B$4:$F$211,5,FALSE)-B30)-((B29-B38)-(B29-B38)*IF($E$9="SI",$E$16-2,$E$16)/100),0)) -> 156835.64 | C31: =IF(CODE($E$7)=72,IF(((C29-C38)-(C29-C38)*IF($E$9="SI",$E$16-2,$E$16)/100+C30)<VLOOKUP($E$14,Indices!$B$4:$F$211,5,FALSE)*$E$10,(VLOOKUP($E$14,Indices!$B$4:$F$211,5,FALSE)*$E$10-C30)-((C29-C38)-(C29-C38)*IF($E$9="SI",$E$16-2,$E$16)/100),0),IF(((C29-C38)-(C29-C38)*IF($E$9="SI",$E$16-2,$E$16)/100+C30)<VLOOKUP($E$14,Indices!$B$4:$F$211,5,FALSE),(VLOOKUP($E$14,Indices!$B$4:$F$211,5,FALSE)-C30)-((C29-C38)-(C29-C38)*IF($E$9="SI",$E$16-2,$E$16)/100),0)) -> 41344.95 | D31: =IF(CODE($E$7)=72,IF(((D29-D38)-(D29-D38)*IF($E$9="SI",$E$16-2,$E$16)/100+D30)<VLOOKUP($E$14,Indices!$B$4:$F$211,5,FALSE)*$E$10,(VLOOKUP($E$14,Indices!$B$4:$F$211,5,FALSE)*$E$10-D30)-((D29-D38)-(D29-D38)*IF($E$9="SI",$E$16-2,$E$16)/100),0),IF(((D29-D38)-(D29-D38)*IF($E$9="SI",$E$16-2,$E$16)/100+D30)<VLOOKUP($E$14,Indices!$B$4:$F$211,5,FALSE),(VLOOKUP($E$14,Indices!$B$4:$F$211,5,FALSE)-D30)-((D29-D38)-(D29-D38)*IF($E$9="SI",$E$16-2,$E$16)/100),0)) -> 2848.06 | E31: =IF(CODE($E$7)=72,IF(((E29-E38)-(E29-E38)*IF($E$9="SI",$E$16-2,$E$16)/100+E30)<VLOOKUP($E$14,Indices!$B$4:$F$211,5,FALSE)*$E$10,(VLOOKUP($E$14,Indices!$B$4:$F$211,5,FALSE)*$E$10-E30)-((E29-E38)-(E29-E38)*IF($E$9="SI",$E$16-2,$E$16)/100),0),IF(((E29-E38)-(E29-E38)*IF($E$9="SI",$E$16-2,$E$16)/100+E30)<VLOOKUP($E$14,Indices!$B$4:$F$211,5,FALSE),(VLOOKUP($E$14,Indices!$B$4:$F$211,5,FALSE)-E30)-((E29-E38)-(E29-E38)*IF($E$9="SI",$E$16-2,$E$16)/100),0)) -> 0 | F31: =IF(CODE($E$7)=72,IF(((F29-F38)-(F29-F38)*IF($E$9="SI",$E$16-2,$E$16)/100+F30)<VLOOKUP($E$14,Indices!$B$4:$F$211,5,FALSE)*$E$10,(VLOOKUP($E$14,Indices!$B$4:$F$211,5,FALSE)*$E$10-F30)-((F29-F38)-(F29-F38)*IF($E$9="SI",$E$16-2,$E$16)/100),0),IF(((F29-F38)-(F29-F38)*IF($E$9="SI",$E$16-2,$E$16)/100+F30)<VLOOKUP($E$14,Indices!$B$4:$F$211,5,FALSE),(VLOOKUP($E$14,Indices!$B$4:$F$211,5,FALSE)-F30)-((F29-F38)-(F29-F38)*IF($E$9="SI",$E$16-2,$E$16)/100),0)) -> 0 | G31: =IF(CODE($E$7)=72,IF(((G29-G38)-(G29-G38)*IF($E$9="SI",$E$16-2,$E$16)/100+G30)<VLOOKUP($E$14,Indices!$B$4:$F$211,5,FALSE)*$E$10,(VLOOKUP($E$14,Indices!$B$4:$F$211,5,FALSE)*$E$10-G30)-((G29-G38)-(G29-G38)*IF($E$9="SI",$E$16-2,$E$16)/100),0),IF(((G29-G38)-(G29-G38)*IF($E$9="SI",$E$16-2,$E$16)/100+G30)<VLOOKUP($E$14,Indices!$B$4:$F$211,5,FALSE),(VLOOKUP($E$14,Indices!$B$4:$F$211,5,FALSE)-G30)-((G29-G38)-(G29-G38)*IF($E$9="SI",$E$16-2,$E$16)/100),0)) -> 0 | H31: =IF(CODE($E$7)=72,IF(((H29-H38)-(H29-H38)*IF($E$9="SI",$E$16-2,$E$16)/100+H30)<VLOOKUP($E$14,Indices!$B$4:$F$211,5,FALSE)*$E$10,(VLOOKUP($E$14,Indices!$B$4:$F$211,5,FALSE)*$E$10-H30)-((H29-H38)-(H29-H38)*IF($E$9="SI",$E$16-2,$E$16)/100),0),IF(((H29-H38)-(H29-H38)*IF($E$9="SI",$E$16-2,$E$16)/100+H30)<VLOOKUP($E$14,Indices!$B$4:$F$211,5,FALSE),(VLOOKUP($E$14,Indices!$B$4:$F$211,5,FALSE)-H30)-((H29-H38)-(H29-H38)*IF($E$9="SI",$E$16-2,$E$16)/100),0)) -> 0 | I31: =IF(CODE($E$7)=72,IF(((I29-I38)-(I29-I38)*IF($E$9="SI",$E$16-2,$E$16)/100+I30)<VLOOKUP($E$14,Indices!$B$4:$F$211,5,FALSE)*$E$10,(VLOOKUP($E$14,Indices!$B$4:$F$211,5,FALSE)*$E$10-I30)-((I29-I38)-(I29-I38)*IF($E$9="SI",$E$16-2,$E$16)/100),0),IF(((I29-I38)-(I29-I38)*IF($E$9="SI",$E$16-2,$E$16)/100+I30)<VLOOKUP($E$14,Indices!$B$4:$F$211,5,FALSE),(VLOOKUP($E$14,Indices!$B$4:$F$211,5,FALSE)-I30)-((I29-I38)-(I29-I38)*IF($E$9="SI",$E$16-2,$E$16)/100),0)) -> 0 | ... L31: =IF(CODE($E$7)=72,IF(((L29-L38)-(L29-L38)*IF($E$9="SI",$E$16-2,$E$16)/100+L30)<VLOOKUP($E$14,Indices!$B$4:$F$211,5,FALSE)*$E$10,(VLOOKUP($E$14,Indices!$B$4:$F$211,5,FALSE)*$E$10-L30)-((L29-L38)-(L29-L38)*IF($E$9="SI",$E$16-2,$E$16)/100),0),IF(((L29-L38)-(L29-L38)*IF($E$9="SI",$E$16-2,$E$16)/100+L30)<VLOOKUP($E$14,Indices!$B$4:$F$211,5,FALSE),(VLOOKUP($E$14,Indices!$B$4:$F$211,5,FALSE)-L30)-((L29-L38)-(L29-L38)*IF($E$9="SI",$E$16-2,$E$16)/100),0)) -> 0
A32: =+Datos!A42 -> Comp. Fija Prop. (CFP) | B32: =IF(CODE($E$7)=72,IF(ISERR(FIND("Superior",$E$6,1))=FALSE,IF($E$10<24,$E$10*Datos!$C$27,Datos!$B$26),Datos!$B$27*$E$10),IF(ISERR(FIND("Complet",$E$6,1))=FALSE,IF(OR($E$14=5088,$E$14=5089),Datos!$B$25,Datos!$B$26),Datos!$B$25)) -> 34000 | C32: =IF(CODE($E$7)=72,IF(ISERR(FIND("Superior",$E$6,1))=FALSE,IF($E$10<24,$E$10*Datos!$C$27,Datos!$B$26),Datos!$B$27*$E$10),IF(ISERR(FIND("Complet",$E$6,1))=FALSE,IF(OR($E$14=5088,$E$14=5089),Datos!$B$25,Datos!$B$26),Datos!$B$25)) -> 34000 | D32: =IF(CODE($E$7)=72,IF(ISERR(FIND("Superior",$E$6,1))=FALSE,IF($E$10<24,$E$10*Datos!$C$27,Datos!$B$26),Datos!$B$27*$E$10),IF(ISERR(FIND("Complet",$E$6,1))=FALSE,IF(OR($E$14=5088,$E$14=5089),Datos!$B$25,Datos!$B$26),Datos!$B$25)) -> 34000 | E32: =IF(CODE($E$7)=72,IF(ISERR(FIND("Superior",$E$6,1))=FALSE,IF($E$10<24,$E$10*Datos!$C$27,Datos!$B$26),Datos!$B$27*$E$10),IF(ISERR(FIND("Complet",$E$6,1))=FALSE,IF(OR($E$14=5088,$E$14=5089),Datos!$B$25,Datos!$B$26),Datos!$B$25)) -> 34000 | F32: =IF(CODE($E$7)=72,IF(ISERR(FIND("Superior",$E$6,1))=FALSE,IF($E$10<24,$E$10*Datos!$C$27,Datos!$B$26),Datos!$B$27*$E$10),IF(ISERR(FIND("Complet",$E$6,1))=FALSE,IF(OR($E$14=5088,$E$14=5089),Datos!$B$25,Datos!$B$26),Datos!$B$25)) -> 34000 | G32: =IF(CODE($E$7)=72,IF(ISERR(FIND("Superior",$E$6,1))=FALSE,IF($E$10<24,$E$10*Datos!$C$27,Datos!$B$26),Datos!$B$27*$E$10),IF(ISERR(FIND("Complet",$E$6,1))=FALSE,IF(OR($E$14=5088,$E$14=5089),Datos!$B$25,Datos!$B$26),Datos!$B$25)) -> 34000 | H32: =IF(CODE($E$7)=72,IF(ISERR(FIND("Superior",$E$6,1))=FALSE,IF($E$10<24,$E$10*Datos!$C$27,Datos!$B$26),Datos!$B$27*$E$10),IF(ISERR(FIND("Complet",$E$6,1))=FALSE,IF(OR($E$14=5088,$E$14=5089),Datos!$B$25,Datos!$B$26),Datos!$B$25)) -> 34000 | I32: =IF(CODE($E$7)=72,IF(ISERR(FIND("Superior",$E$6,1))=FALSE,IF($E$10<24,$E$10*Datos!$C$27,Datos!$B$26),Datos!$B$27*$E$10),IF(ISERR(FIND("Complet",$E$6,1))=FALSE,IF(OR($E$14=5088,$E$14=5089),Datos!$B$25,Datos!$B$26),Datos!$B$25)) -> 34000 | ... L32: =IF(CODE($E$7)=72,IF(ISERR(FIND("Superior",$E$6,1))=FALSE,IF($E$10<24,$E$10*Datos!$C$27,Datos!$B$26),Datos!$B$27*$E$10),IF(ISERR(FIND("Complet",$E$6,1))=FALSE,IF(OR($E$14=5088,$E$14=5089),Datos!$B$25,Datos!$B$26),Datos!$B$25)) -> 34000
A33: =+Datos!A46 -> Suma Fija NR NB | B33: =IF(CODE($E$7)=72,$E$10*Datos!$B$31,VLOOKUP($E$14,Indices!$B$3:$N$211,11,FALSE)) -> 30000 | C33: =IF(CODE($E$7)=72,$E$10*Datos!$B$31,VLOOKUP($E$14,Indices!$B$3:$N$211,11,FALSE)) -> 30000 | D33: =IF(CODE($E$7)=72,$E$10*Datos!$B$31,VLOOKUP($E$14,Indices!$B$3:$N$211,11,FALSE)) -> 30000 | E33: =IF(CODE($E$7)=72,$E$10*Datos!$B$31,VLOOKUP($E$14,Indices!$B$3:$N$211,11,FALSE)) -> 30000 | F33: =IF(CODE($E$7)=72,$E$10*Datos!$B$31,VLOOKUP($E$14,Indices!$B$3:$N$211,11,FALSE)) -> 30000 | G33: =IF(CODE($E$7)=72,$E$10*Datos!$B$31,VLOOKUP($E$14,Indices!$B$3:$N$211,11,FALSE)) -> 30000 | H33: =IF(CODE($E$7)=72,$E$10*Datos!$B$31,VLOOKUP($E$14,Indices!$B$3:$N$211,11,FALSE)) -> 30000 | I33: =IF(CODE($E$7)=72,$E$10*Datos!$B$31,VLOOKUP($E$14,Indices!$B$3:$N$211,11,FALSE)) -> 30000 | ... L33: =IF(CODE($E$7)=72,$E$10*Datos!$B$31,VLOOKUP($E$14,Indices!$B$3:$N$211,11,FALSE)) -> 30000
A34: Total NO Remunerativo | B34: =SUM(B30:B33) -> 396106.64 | C34: =SUM(C30:C33) -> 280615.95 | D34: =SUM(D30:D33) -> 242119.06 | E34: =SUM(E30:E33) -> 64000 | F34: =SUM(F30:F33) -> 64000 | G34: =SUM(G30:G33) -> 64000 | H34: =SUM(H30:H33) -> 64000 | I34: =SUM(I30:I33) -> 64000 | ... L34: =SUM(L30:L33) -> 64000
A35: Retenciones | B35: =IF(B29<$E$17,(B29*$E$16/100),(B29*($E$16-6)/100)+$E$17*0.06)+(IF($E$9="SI",(B30+B31)*0.02,0)) -> 130084.28 | C35: =IF(C29<$E$17,(C29*$E$16/100),(C29*($E$16-6)/100)+$E$17*0.06)+(IF($E$9="SI",(C30+C31)*0.02,0)) -> 165561.81 | D35: =IF(D29<$E$17,(D29*$E$16/100),(D29*($E$16-6)/100)+$E$17*0.06)+(IF($E$9="SI",(D30+D31)*0.02,0)) -> 177387.66 | E35: =IF(E29<$E$17,(E29*$E$16/100),(E29*($E$16-6)/100)+$E$17*0.06)+(IF($E$9="SI",(E30+E31)*0.02,0)) -> 240251.98 | F35: =IF(F29<$E$17,(F29*$E$16/100),(F29*($E$16-6)/100)+$E$17*0.06)+(IF($E$9="SI",(F30+F31)*0.02,0)) -> 252077.82 | G35: =IF(G29<$E$17,(G29*$E$16/100),(G29*($E$16-6)/100)+$E$17*0.06)+(IF($E$9="SI",(G30+G31)*0.02,0)) -> 263903.67 | H35: =IF(H29<$E$17,(H29*$E$16/100),(H29*($E$16-6)/100)+$E$17*0.06)+(IF($E$9="SI",(H30+H31)*0.02,0)) -> 275729.51 | I35: =IF(I29<$E$17,(I29*$E$16/100),(I29*($E$16-6)/100)+$E$17*0.06)+(IF($E$9="SI",(I30+I31)*0.02,0)) -> 287555.35 | ... L35: =IF(L29<$E$17,(L29*$E$16/100),(L29*($E$16-6)/100)+$E$17*0.06)+(IF($E$9="SI",(L30+L31)*0.02,0)) -> 323032.88
A36: Total Neto | B36: =SUM(B29+B34)-B35 -> 819572.5 | C36: =SUM(C29+C34)-C35 -> 819572.5 | D36: =SUM(D29+D34)-D35 -> 819572.5 | E36: =SUM(E29+E34)-E35 -> 846096.86 | F36: =SUM(F29+F34)-F35 -> 884593.76 | G36: =SUM(G29+G34)-G35 -> 923090.65 | H36: =SUM(H29+H34)-H35 -> 961587.55 | I36: =SUM(I29+I34)-I35 -> 1000084.4 | ... L36: =SUM(L29+L34)-L35 -> 1115575.1
A38: Parte Remunerativa que no entra en el CMG | B38: =IF(B27>0,(SUM(B22:B23)*1.25+SUM(B22:B23)*B20),(SUM(B22:B23)*1.1+SUM(B22:B23)*B20)) -> 0 | C38: =IF(C27>0,(SUM(C22:C23)*1.25+SUM(C22:C23)*C20),(SUM(C22:C23)*1.1+SUM(C22:C23)*C20)) -> 0 | D38: =IF(D27>0,(SUM(D22:D23)*1.25+SUM(D22:D23)*D20),(SUM(D22:D23)*1.1+SUM(D22:D23)*D20)) -> 0 | E38: =IF(E27>0,(SUM(E22:E23)*1.25+SUM(E22:E23)*E20),(SUM(E22:E23)*1.1+SUM(E22:E23)*E20)) -> 0 | F38: =IF(F27>0,(SUM(F22:F23)*1.25+SUM(F22:F23)*F20),(SUM(F22:F23)*1.1+SUM(F22:F23)*F20)) -> 0 | G38: =IF(G27>0,(SUM(G22:G23)*1.25+SUM(G22:G23)*G20),(SUM(G22:G23)*1.1+SUM(G22:G23)*G20)) -> 0 | H38: =IF(H27>0,(SUM(H22:H23)*1.25+SUM(H22:H23)*H20),(SUM(H22:H23)*1.1+SUM(H22:H23)*H20)) -> 0 | I38: =IF(I27>0,(SUM(I22:I23)*1.25+SUM(I22:I23)*I20),(SUM(I22:I23)*1.1+SUM(I22:I23)*I20)) -> 0 | ... L38: =IF(L27>0,(SUM(L22:L23)*1.25+SUM(L22:L23)*L20),(SUM(L22:L23)*1.1+SUM(L22:L23)*L20)) -> 0
